BEGIN:VCALENDAR
VERSION:2.0
PRODID:-//Madison Elyse - ECPv6.15.20//NONSGML v1.0//EN
CALSCALE:GREGORIAN
METHOD:PUBLISH
X-WR-CALNAME:Madison Elyse
X-ORIGINAL-URL:https://madisonelyse.com
X-WR-CALDESC:Events for Madison Elyse
REFRESH-INTERVAL;VALUE=DURATION:PT1H
X-Robots-Tag:noindex
X-PUBLISHED-TTL:PT1H
BEGIN:VTIMEZONE
TZID:Europe/Madrid
BEGIN:DAYLIGHT
TZOFFSETFROM:+0100
TZOFFSETTO:+0200
TZNAME:CEST
DTSTART:20240331T010000
END:DAYLIGHT
BEGIN:STANDARD
TZOFFSETFROM:+0200
TZOFFSETTO:+0100
TZNAME:CET
DTSTART:20241027T010000
END:STANDARD
BEGIN:DAYLIGHT
TZOFFSETFROM:+0100
TZOFFSETTO:+0200
TZNAME:CEST
DTSTART:20250330T010000
END:DAYLIGHT
BEGIN:STANDARD
TZOFFSETFROM:+0200
TZOFFSETTO:+0100
TZNAME:CET
DTSTART:20251026T010000
END:STANDARD
BEGIN:DAYLIGHT
TZOFFSETFROM:+0100
TZOFFSETTO:+0200
TZNAME:CEST
DTSTART:20260329T010000
END:DAYLIGHT
BEGIN:STANDARD
TZOFFSETFROM:+0200
TZOFFSETTO:+0100
TZNAME:CET
DTSTART:20261025T010000
END:STANDARD
END:VTIMEZONE
BEGIN:VEVENT
DTSTART;TZID=Europe/Madrid:20250823T150000
DTEND;TZID=Europe/Madrid:20250829T100000
DTSTAMP:20260426T050501
CREATED:20250811T142604Z
LAST-MODIFIED:20250811T142629Z
UID:10001068-1755961200-1756461600@madisonelyse.com
SUMMARY:North Carolina "Unleash Your Creative Fire" Yoga & Art Retreat
DESCRIPTION:Unleash your creative fire with movement and art at this 7-day\, all-inclusive retreat in the heart of the Blue Ridge Mountains. \n\n\n\nOver 20 hours of yoga classes and art workshops with Madison Elyse and Artruvian\, group events\, and more.\nRound trip transport to/from Charlotte Douglas International Airport (a 2h drive into the mountains).\nThree meals per day\, dessert\, snacks\, coffee\, and tea. Vegan\, vegetarian\, pescatarian or whatever-arian\, the chef will have something for everyone.\nSix nights at Mount Mitchell Eco Retreat in Burnsville\, North Carolina.\nFree daily transportation to nearby swimming and hiking sites\, should you need a little extra movement.
URL:https://madisonelyse.com/event/north-carolina-unleash-your-creative-fire-yoga-art-retreat/
LOCATION:Mount Mitchell Eco Retreat\, 430 Otter Rock Rd\, Burnsville\, NC\, 28714\, United States
CATEGORIES:Retreats
ORGANIZER;CN="Madison Elyse Yoga & Adventure Retreats":MAILTO:me@madisonelyse.com
END:VEVENT
BEGIN:VEVENT
DTSTART;TZID=Europe/Madrid:20250824T170000
DTEND;TZID=Europe/Madrid:20250824T180000
DTSTAMP:20260426T050501
CREATED:20250416T143520Z
LAST-MODIFIED:20250416T143520Z
UID:10000214-1756054800-1756058400@madisonelyse.com
SUMMARY:Sunday Sweat Club
DESCRIPTION:Join the Sunday Sweat Club and take part in a live\, online yoga class every Sunday at 5pm CEST. \nEach week\, we’ll work through a different portion of the body to evaluate and improve your mobility while building strength and cultivating mind-body connection. And yes\, we’ll definitely get a little sweaty! \nCan’t make it to every class? No problem. I’ll send you lifetime access to the recording as soon as it’s over. That way\, you can practice on your own time and still be part of this fun\, free club. \nClick here to register.  \nLive in Pollensa and want to join in person\, for free? Message Madison at +34 605 98 00 84.
URL:https://madisonelyse.com/event/sunday-sweat-club/2025-08-24/
LOCATION:Online
CATEGORIES:Yoga Classes
ORGANIZER;CN="Madison Elyse Yoga & Adventure Retreats":MAILTO:me@madisonelyse.com
END:VEVENT
END:VCALENDAR