BEGIN:VCALENDAR
VERSION:2.0
PRODID:-//Madison Elyse - ECPv6.15.20//NONSGML v1.0//EN
CALSCALE:GREGORIAN
METHOD:PUBLISH
X-ORIGINAL-URL:https://madisonelyse.com
X-WR-CALDESC:Events for Madison Elyse
REFRESH-INTERVAL;VALUE=DURATION:PT1H
X-Robots-Tag:noindex
X-PUBLISHED-TTL:PT1H
BEGIN:VTIMEZONE
TZID:Europe/Madrid
BEGIN:DAYLIGHT
TZOFFSETFROM:+0100
TZOFFSETTO:+0200
TZNAME:CEST
DTSTART:20250330T010000
END:DAYLIGHT
BEGIN:STANDARD
TZOFFSETFROM:+0200
TZOFFSETTO:+0100
TZNAME:CET
DTSTART:20251026T010000
END:STANDARD
BEGIN:DAYLIGHT
TZOFFSETFROM:+0100
TZOFFSETTO:+0200
TZNAME:CEST
DTSTART:20260329T010000
END:DAYLIGHT
BEGIN:STANDARD
TZOFFSETFROM:+0200
TZOFFSETTO:+0100
TZNAME:CET
DTSTART:20261025T010000
END:STANDARD
BEGIN:DAYLIGHT
TZOFFSETFROM:+0100
TZOFFSETTO:+0200
TZNAME:CEST
DTSTART:20270328T010000
END:DAYLIGHT
BEGIN:STANDARD
TZOFFSETFROM:+0200
TZOFFSETTO:+0100
TZNAME:CET
DTSTART:20271031T010000
END:STANDARD
END:VTIMEZONE
BEGIN:VEVENT
DTSTART;TZID=Europe/Madrid:20260417T183000
DTEND;TZID=Europe/Madrid:20260417T200000
DTSTAMP:20260425T173303
CREATED:20260402T165023Z
LAST-MODIFIED:20260407T144836Z
UID:10001279-1776450600-1776456000@madisonelyse.com
SUMMARY:New Moon Ceremony with Sarah Livesey
DESCRIPTION:This New Moon in Aeries is here to help you kick start your dreams. \nDo you have a big idea that you’ve been too afraid to pursue? \nMaybe there has been a subtle shift in your energy\, or you feel yourself changing in small but meaningful ways? \nSpring is a time for hope\, for manifestation\, and renewal. Join us for an incredible evening with renowned psychic and metaphysical consultant Sarah Livesey (as seen on Love Island Australia)\, as we dive into your deepest intuition to reveal what you need out of life so you can radiate your talent into the world. \nWhat to Expect\n18:30h – 19:00h: Yin Yoga with Madison Elyse\n– Tuning Forks\n– Meditation to Prepare Mind & Body\n19:00h – 20:00h: Psychic Circle with Sarah Livesey \nOptional\n20:15h – 22:15: Enjoy dinner in Pollensa\, meet new friends\, and get to know our community. (Dinner is not included in the cost of the ticket price.) \nCost: 40€ | Cash Only\, Day Of \n\nFILL OUT THE FORM TO GUARANTEE YOUR SPOT
URL:https://madisonelyse.com/event/new-moon-ceremony-with-sarah-livesey/
LOCATION:Be Happy Yoga Studio\, Carrer de l'Ermità Torrandell\, Pollença\, Illes Balears\, 07460\, Spain
CATEGORIES:Special Event
ORGANIZER;CN="Madison Elyse Yoga & Adventure Retreats":MAILTO:me@madisonelyse.com
END:VEVENT
END:VCALENDAR