BEGIN:VCALENDAR
VERSION:2.0
PRODID:-//Madison Elyse - ECPv6.15.20//NONSGML v1.0//EN
CALSCALE:GREGORIAN
METHOD:PUBLISH
X-ORIGINAL-URL:https://madisonelyse.com
X-WR-CALDESC:Events for Madison Elyse
REFRESH-INTERVAL;VALUE=DURATION:PT1H
X-Robots-Tag:noindex
X-PUBLISHED-TTL:PT1H
BEGIN:VTIMEZONE
TZID:Europe/Madrid
BEGIN:DAYLIGHT
TZOFFSETFROM:+0100
TZOFFSETTO:+0200
TZNAME:CEST
DTSTART:20240331T010000
END:DAYLIGHT
BEGIN:STANDARD
TZOFFSETFROM:+0200
TZOFFSETTO:+0100
TZNAME:CET
DTSTART:20241027T010000
END:STANDARD
BEGIN:DAYLIGHT
TZOFFSETFROM:+0100
TZOFFSETTO:+0200
TZNAME:CEST
DTSTART:20250330T010000
END:DAYLIGHT
BEGIN:STANDARD
TZOFFSETFROM:+0200
TZOFFSETTO:+0100
TZNAME:CET
DTSTART:20251026T010000
END:STANDARD
BEGIN:DAYLIGHT
TZOFFSETFROM:+0100
TZOFFSETTO:+0200
TZNAME:CEST
DTSTART:20260329T010000
END:DAYLIGHT
BEGIN:STANDARD
TZOFFSETFROM:+0200
TZOFFSETTO:+0100
TZNAME:CET
DTSTART:20261025T010000
END:STANDARD
END:VTIMEZONE
BEGIN:VEVENT
DTSTART;TZID=Europe/Madrid:20251107T160000
DTEND;TZID=Europe/Madrid:20251109T110000
DTSTAMP:20260426T010831
CREATED:20250416T143136Z
LAST-MODIFIED:20250721T122321Z
UID:10000195-1762531200-1762686000@madisonelyse.com
SUMMARY:3-Day Tech Detox Yoga Weekend
DESCRIPTION:Silence. From the world\, from obligations\, and from the daily barrage of information that requires your energy. Ask yourself: what knowledge waits for me when my body and mind are silent? Are there things that I’ve been ignoring\, or new ways for me to look at the world? \nThis tech-detox yoga weekend in Mallorca is everything you need to take the first step into deeper self-inquiry. Discover what you can learn when you cut through the chatter and lean into your inner wisdom. \nLearn more and register by clicking here. 
URL:https://madisonelyse.com/event/3-day-tech-detox-yoga-weekend/
LOCATION:Hotel Dalt Muntanya\, Ctra Bunyola\, km 10\, Orient\,\, Balearic Islands\, 07349\, Spain
CATEGORIES:Retreats
ORGANIZER;CN="Madison Elyse Yoga & Adventure Retreats":MAILTO:me@madisonelyse.com
END:VEVENT
BEGIN:VEVENT
DTSTART;TZID=Europe/Madrid:20251004T143000
DTEND;TZID=Europe/Madrid:20251011T110000
DTSTAMP:20260426T010831
CREATED:20250811T144207Z
LAST-MODIFIED:20250811T144207Z
UID:10001178-1759588200-1760180400@madisonelyse.com
SUMMARY:Mallorca "Strength & Serenity" Yoga & Self-Care Retreat
DESCRIPTION:Are you ready to spend one week discovering what it means to authentically be YOU?\n\n\n\n\n\n\n\n\n\n\n\n\n\nYour relationship with yourself is constantly evolving. Every year\, every minute\, and every day\, you are given the opportunity to become someone new. Whether you’re an experienced yoga practicioner or just starting your journey\, this playful yoga retreat in Mallorca will act as a catalyst for self-inquiry\, curiosity\, and possibility. \n\n\n\n\n\n\n\n\n\n\nAsk yourself: what am I capable of? Will I flow with the current of life\, or swim against it? This week is all about slowing down\, listening to your inner wisdom\, and diving into what you really want. By slowing down\, you open the lines of communication with your hopes\, desires\, and potential. \n\nJoin us for this 8-day retreat in the heart of Mallorca. You won’t regret it.
URL:https://madisonelyse.com/event/mallorca-strength-serenity-yoga-self-care-retreat/
LOCATION:Son Manera Retreat Finca\, Ctra. Montuïri - Lloret\, 0\, Montuïri\, Balearic Islands\, 07230\, Spain
CATEGORIES:Retreats
ORGANIZER;CN="Madison Elyse Yoga & Adventure Retreats":MAILTO:me@madisonelyse.com
END:VEVENT
BEGIN:VEVENT
DTSTART;TZID=Europe/Madrid:20250823T150000
DTEND;TZID=Europe/Madrid:20250829T100000
DTSTAMP:20260426T010831
CREATED:20250811T142604Z
LAST-MODIFIED:20250811T142629Z
UID:10001068-1755961200-1756461600@madisonelyse.com
SUMMARY:North Carolina "Unleash Your Creative Fire" Yoga & Art Retreat
DESCRIPTION:Unleash your creative fire with movement and art at this 7-day\, all-inclusive retreat in the heart of the Blue Ridge Mountains. \n\n\n\nOver 20 hours of yoga classes and art workshops with Madison Elyse and Artruvian\, group events\, and more.\nRound trip transport to/from Charlotte Douglas International Airport (a 2h drive into the mountains).\nThree meals per day\, dessert\, snacks\, coffee\, and tea. Vegan\, vegetarian\, pescatarian or whatever-arian\, the chef will have something for everyone.\nSix nights at Mount Mitchell Eco Retreat in Burnsville\, North Carolina.\nFree daily transportation to nearby swimming and hiking sites\, should you need a little extra movement.
URL:https://madisonelyse.com/event/north-carolina-unleash-your-creative-fire-yoga-art-retreat/
LOCATION:Mount Mitchell Eco Retreat\, 430 Otter Rock Rd\, Burnsville\, NC\, 28714\, United States
CATEGORIES:Retreats
ORGANIZER;CN="Madison Elyse Yoga & Adventure Retreats":MAILTO:me@madisonelyse.com
END:VEVENT
END:VCALENDAR