BEGIN:VCALENDAR
VERSION:2.0
PRODID:-//Madison Elyse - ECPv6.15.20//NONSGML v1.0//EN
CALSCALE:GREGORIAN
METHOD:PUBLISH
X-WR-CALNAME:Madison Elyse
X-ORIGINAL-URL:https://madisonelyse.com
X-WR-CALDESC:Events for Madison Elyse
REFRESH-INTERVAL;VALUE=DURATION:PT1H
X-Robots-Tag:noindex
X-PUBLISHED-TTL:PT1H
BEGIN:VTIMEZONE
TZID:Europe/Madrid
BEGIN:DAYLIGHT
TZOFFSETFROM:+0100
TZOFFSETTO:+0200
TZNAME:CEST
DTSTART:20240331T010000
END:DAYLIGHT
BEGIN:STANDARD
TZOFFSETFROM:+0200
TZOFFSETTO:+0100
TZNAME:CET
DTSTART:20241027T010000
END:STANDARD
BEGIN:DAYLIGHT
TZOFFSETFROM:+0100
TZOFFSETTO:+0200
TZNAME:CEST
DTSTART:20250330T010000
END:DAYLIGHT
BEGIN:STANDARD
TZOFFSETFROM:+0200
TZOFFSETTO:+0100
TZNAME:CET
DTSTART:20251026T010000
END:STANDARD
BEGIN:DAYLIGHT
TZOFFSETFROM:+0100
TZOFFSETTO:+0200
TZNAME:CEST
DTSTART:20260329T010000
END:DAYLIGHT
BEGIN:STANDARD
TZOFFSETFROM:+0200
TZOFFSETTO:+0100
TZNAME:CET
DTSTART:20261025T010000
END:STANDARD
END:VTIMEZONE
BEGIN:VEVENT
DTSTART;TZID=Europe/Madrid:20250810T170000
DTEND;TZID=Europe/Madrid:20250810T180000
DTSTAMP:20260426T050623
CREATED:20250416T143520Z
LAST-MODIFIED:20250416T143520Z
UID:10000212-1754845200-1754848800@madisonelyse.com
SUMMARY:Sunday Sweat Club
DESCRIPTION:Join the Sunday Sweat Club and take part in a live\, online yoga class every Sunday at 5pm CEST. \nEach week\, we’ll work through a different portion of the body to evaluate and improve your mobility while building strength and cultivating mind-body connection. And yes\, we’ll definitely get a little sweaty! \nCan’t make it to every class? No problem. I’ll send you lifetime access to the recording as soon as it’s over. That way\, you can practice on your own time and still be part of this fun\, free club. \nClick here to register.  \nLive in Pollensa and want to join in person\, for free? Message Madison at +34 605 98 00 84.
URL:https://madisonelyse.com/event/sunday-sweat-club/2025-08-10/
LOCATION:Online
CATEGORIES:Yoga Classes
ORGANIZER;CN="Madison Elyse Yoga & Adventure Retreats":MAILTO:me@madisonelyse.com
END:VEVENT
BEGIN:VEVENT
DTSTART;TZID=Europe/Madrid:20250807T183000
DTEND;TZID=Europe/Madrid:20250807T193000
DTSTAMP:20260426T050623
CREATED:20250416T134614Z
LAST-MODIFIED:20260402T165607Z
UID:10000892-1754591400-1754595000@madisonelyse.com
SUMMARY:Vinyasa Yoga @ Be Happy
DESCRIPTION:All of the classes with Madison Elyse revolve around anatomy\, mobility and safe movement. Whether you’re an expert or a novice\, you’ll find something to challenge and inspire you in every class. Think vinyasa\, meets hatha\, meets strength. \nPreregister by texting Madison at +34 605 98 00 84\, or just show up to the studio.
URL:https://madisonelyse.com/event/vinyasa-yoga-be-happy-yoga-studio/2025-08-07/
LOCATION:Be Happy Yoga Studio\, Carrer de l'Ermità Torrandell\, Pollença\, Illes Balears\, 07460\, Spain
CATEGORIES:Yoga Classes
ORGANIZER;CN="Madison Elyse Yoga & Adventure Retreats":MAILTO:me@madisonelyse.com
END:VEVENT
BEGIN:VEVENT
DTSTART;TZID=Europe/Madrid:20250805T183000
DTEND;TZID=Europe/Madrid:20250805T193000
DTSTAMP:20260426T050623
CREATED:20250416T134614Z
LAST-MODIFIED:20260402T165607Z
UID:10000891-1754418600-1754422200@madisonelyse.com
SUMMARY:Vinyasa Yoga @ Be Happy
DESCRIPTION:All of the classes with Madison Elyse revolve around anatomy\, mobility and safe movement. Whether you’re an expert or a novice\, you’ll find something to challenge and inspire you in every class. Think vinyasa\, meets hatha\, meets strength. \nPreregister by texting Madison at +34 605 98 00 84\, or just show up to the studio.
URL:https://madisonelyse.com/event/vinyasa-yoga-be-happy-yoga-studio/2025-08-05/
LOCATION:Be Happy Yoga Studio\, Carrer de l'Ermità Torrandell\, Pollença\, Illes Balears\, 07460\, Spain
CATEGORIES:Yoga Classes
ORGANIZER;CN="Madison Elyse Yoga & Adventure Retreats":MAILTO:me@madisonelyse.com
END:VEVENT
BEGIN:VEVENT
DTSTART;TZID=Europe/Madrid:20250805T090000
DTEND;TZID=Europe/Madrid:20250805T100000
DTSTAMP:20260426T050623
CREATED:20250416T144906Z
LAST-MODIFIED:20250721T122659Z
UID:10001012-1754384400-1754388000@madisonelyse.com
SUMMARY:Hatha Yoga @ Inspira
DESCRIPTION:Join us for some poolside hatha yoga at Inspira with Madison Elyse. All classes revolve around anatomy\, mobility and safe movement. Please bring a mat! \nTo preregister\, Whatsapp Madison at +34 605 98 00 84 or simply show up for class.
URL:https://madisonelyse.com/event/hatha-yoga-inspira-2/2025-08-05/
LOCATION:Comunidad Inspira\, Carrer del Fuster\, 49\, Pollensa\, Illes Balears\, 07460\, Spain
CATEGORIES:Yoga Classes
ORGANIZER;CN="Madison Elyse Yoga & Adventure Retreats":MAILTO:me@madisonelyse.com
END:VEVENT
BEGIN:VEVENT
DTSTART;TZID=Europe/Madrid:20250803T170000
DTEND;TZID=Europe/Madrid:20250803T180000
DTSTAMP:20260426T050623
CREATED:20250416T143520Z
LAST-MODIFIED:20250416T143520Z
UID:10000211-1754240400-1754244000@madisonelyse.com
SUMMARY:Sunday Sweat Club
DESCRIPTION:Join the Sunday Sweat Club and take part in a live\, online yoga class every Sunday at 5pm CEST. \nEach week\, we’ll work through a different portion of the body to evaluate and improve your mobility while building strength and cultivating mind-body connection. And yes\, we’ll definitely get a little sweaty! \nCan’t make it to every class? No problem. I’ll send you lifetime access to the recording as soon as it’s over. That way\, you can practice on your own time and still be part of this fun\, free club. \nClick here to register.  \nLive in Pollensa and want to join in person\, for free? Message Madison at +34 605 98 00 84.
URL:https://madisonelyse.com/event/sunday-sweat-club/2025-08-03/
LOCATION:Online
CATEGORIES:Yoga Classes
ORGANIZER;CN="Madison Elyse Yoga & Adventure Retreats":MAILTO:me@madisonelyse.com
END:VEVENT
BEGIN:VEVENT
DTSTART;TZID=Europe/Madrid:20250731T183000
DTEND;TZID=Europe/Madrid:20250731T193000
DTSTAMP:20260426T050623
CREATED:20250416T134614Z
LAST-MODIFIED:20260402T165607Z
UID:10000890-1753986600-1753990200@madisonelyse.com
SUMMARY:Vinyasa Yoga @ Be Happy
DESCRIPTION:All of the classes with Madison Elyse revolve around anatomy\, mobility and safe movement. Whether you’re an expert or a novice\, you’ll find something to challenge and inspire you in every class. Think vinyasa\, meets hatha\, meets strength. \nPreregister by texting Madison at +34 605 98 00 84\, or just show up to the studio.
URL:https://madisonelyse.com/event/vinyasa-yoga-be-happy-yoga-studio/2025-07-31/
LOCATION:Be Happy Yoga Studio\, Carrer de l'Ermità Torrandell\, Pollença\, Illes Balears\, 07460\, Spain
CATEGORIES:Yoga Classes
ORGANIZER;CN="Madison Elyse Yoga & Adventure Retreats":MAILTO:me@madisonelyse.com
END:VEVENT
BEGIN:VEVENT
DTSTART;TZID=Europe/Madrid:20250729T183000
DTEND;TZID=Europe/Madrid:20250729T193000
DTSTAMP:20260426T050623
CREATED:20250416T134614Z
LAST-MODIFIED:20260402T165607Z
UID:10000889-1753813800-1753817400@madisonelyse.com
SUMMARY:Vinyasa Yoga @ Be Happy
DESCRIPTION:All of the classes with Madison Elyse revolve around anatomy\, mobility and safe movement. Whether you’re an expert or a novice\, you’ll find something to challenge and inspire you in every class. Think vinyasa\, meets hatha\, meets strength. \nPreregister by texting Madison at +34 605 98 00 84\, or just show up to the studio.
URL:https://madisonelyse.com/event/vinyasa-yoga-be-happy-yoga-studio/2025-07-29/
LOCATION:Be Happy Yoga Studio\, Carrer de l'Ermità Torrandell\, Pollença\, Illes Balears\, 07460\, Spain
CATEGORIES:Yoga Classes
ORGANIZER;CN="Madison Elyse Yoga & Adventure Retreats":MAILTO:me@madisonelyse.com
END:VEVENT
BEGIN:VEVENT
DTSTART;TZID=Europe/Madrid:20250729T090000
DTEND;TZID=Europe/Madrid:20250729T100000
DTSTAMP:20260426T050623
CREATED:20250416T144906Z
LAST-MODIFIED:20250721T122659Z
UID:10001011-1753779600-1753783200@madisonelyse.com
SUMMARY:Hatha Yoga @ Inspira
DESCRIPTION:Join us for some poolside hatha yoga at Inspira with Madison Elyse. All classes revolve around anatomy\, mobility and safe movement. Please bring a mat! \nTo preregister\, Whatsapp Madison at +34 605 98 00 84 or simply show up for class.
URL:https://madisonelyse.com/event/hatha-yoga-inspira-2/2025-07-29/
LOCATION:Comunidad Inspira\, Carrer del Fuster\, 49\, Pollensa\, Illes Balears\, 07460\, Spain
CATEGORIES:Yoga Classes
ORGANIZER;CN="Madison Elyse Yoga & Adventure Retreats":MAILTO:me@madisonelyse.com
END:VEVENT
BEGIN:VEVENT
DTSTART;TZID=Europe/Madrid:20250727T170000
DTEND;TZID=Europe/Madrid:20250727T180000
DTSTAMP:20260426T050623
CREATED:20250416T143520Z
LAST-MODIFIED:20250416T143520Z
UID:10000210-1753635600-1753639200@madisonelyse.com
SUMMARY:Sunday Sweat Club
DESCRIPTION:Join the Sunday Sweat Club and take part in a live\, online yoga class every Sunday at 5pm CEST. \nEach week\, we’ll work through a different portion of the body to evaluate and improve your mobility while building strength and cultivating mind-body connection. And yes\, we’ll definitely get a little sweaty! \nCan’t make it to every class? No problem. I’ll send you lifetime access to the recording as soon as it’s over. That way\, you can practice on your own time and still be part of this fun\, free club. \nClick here to register.  \nLive in Pollensa and want to join in person\, for free? Message Madison at +34 605 98 00 84.
URL:https://madisonelyse.com/event/sunday-sweat-club/2025-07-27/
LOCATION:Online
CATEGORIES:Yoga Classes
ORGANIZER;CN="Madison Elyse Yoga & Adventure Retreats":MAILTO:me@madisonelyse.com
END:VEVENT
BEGIN:VEVENT
DTSTART;TZID=Europe/Madrid:20250724T183000
DTEND;TZID=Europe/Madrid:20250724T193000
DTSTAMP:20260426T050623
CREATED:20250416T134614Z
LAST-MODIFIED:20260402T165607Z
UID:10000888-1753381800-1753385400@madisonelyse.com
SUMMARY:Vinyasa Yoga @ Be Happy
DESCRIPTION:All of the classes with Madison Elyse revolve around anatomy\, mobility and safe movement. Whether you’re an expert or a novice\, you’ll find something to challenge and inspire you in every class. Think vinyasa\, meets hatha\, meets strength. \nPreregister by texting Madison at +34 605 98 00 84\, or just show up to the studio.
URL:https://madisonelyse.com/event/vinyasa-yoga-be-happy-yoga-studio/2025-07-24/
LOCATION:Be Happy Yoga Studio\, Carrer de l'Ermità Torrandell\, Pollença\, Illes Balears\, 07460\, Spain
CATEGORIES:Yoga Classes
ORGANIZER;CN="Madison Elyse Yoga & Adventure Retreats":MAILTO:me@madisonelyse.com
END:VEVENT
BEGIN:VEVENT
DTSTART;TZID=Europe/Madrid:20250722T183000
DTEND;TZID=Europe/Madrid:20250722T193000
DTSTAMP:20260426T050623
CREATED:20250416T134614Z
LAST-MODIFIED:20260402T165607Z
UID:10000887-1753209000-1753212600@madisonelyse.com
SUMMARY:Vinyasa Yoga @ Be Happy
DESCRIPTION:All of the classes with Madison Elyse revolve around anatomy\, mobility and safe movement. Whether you’re an expert or a novice\, you’ll find something to challenge and inspire you in every class. Think vinyasa\, meets hatha\, meets strength. \nPreregister by texting Madison at +34 605 98 00 84\, or just show up to the studio.
URL:https://madisonelyse.com/event/vinyasa-yoga-be-happy-yoga-studio/2025-07-22/
LOCATION:Be Happy Yoga Studio\, Carrer de l'Ermità Torrandell\, Pollença\, Illes Balears\, 07460\, Spain
CATEGORIES:Yoga Classes
ORGANIZER;CN="Madison Elyse Yoga & Adventure Retreats":MAILTO:me@madisonelyse.com
END:VEVENT
BEGIN:VEVENT
DTSTART;TZID=Europe/Madrid:20250722T090000
DTEND;TZID=Europe/Madrid:20250722T100000
DTSTAMP:20260426T050623
CREATED:20250416T144906Z
LAST-MODIFIED:20250721T122659Z
UID:10001010-1753174800-1753178400@madisonelyse.com
SUMMARY:Hatha Yoga @ Inspira
DESCRIPTION:Join us for some poolside hatha yoga at Inspira with Madison Elyse. All classes revolve around anatomy\, mobility and safe movement. Please bring a mat! \nTo preregister\, Whatsapp Madison at +34 605 98 00 84 or simply show up for class.
URL:https://madisonelyse.com/event/hatha-yoga-inspira-2/2025-07-22/
LOCATION:Comunidad Inspira\, Carrer del Fuster\, 49\, Pollensa\, Illes Balears\, 07460\, Spain
CATEGORIES:Yoga Classes
ORGANIZER;CN="Madison Elyse Yoga & Adventure Retreats":MAILTO:me@madisonelyse.com
END:VEVENT
BEGIN:VEVENT
DTSTART;TZID=Europe/Madrid:20250720T170000
DTEND;TZID=Europe/Madrid:20250720T180000
DTSTAMP:20260426T050623
CREATED:20250416T143520Z
LAST-MODIFIED:20250416T143520Z
UID:10000209-1753030800-1753034400@madisonelyse.com
SUMMARY:Sunday Sweat Club
DESCRIPTION:Join the Sunday Sweat Club and take part in a live\, online yoga class every Sunday at 5pm CEST. \nEach week\, we’ll work through a different portion of the body to evaluate and improve your mobility while building strength and cultivating mind-body connection. And yes\, we’ll definitely get a little sweaty! \nCan’t make it to every class? No problem. I’ll send you lifetime access to the recording as soon as it’s over. That way\, you can practice on your own time and still be part of this fun\, free club. \nClick here to register.  \nLive in Pollensa and want to join in person\, for free? Message Madison at +34 605 98 00 84.
URL:https://madisonelyse.com/event/sunday-sweat-club/2025-07-20/
LOCATION:Online
CATEGORIES:Yoga Classes
ORGANIZER;CN="Madison Elyse Yoga & Adventure Retreats":MAILTO:me@madisonelyse.com
END:VEVENT
BEGIN:VEVENT
DTSTART;TZID=Europe/Madrid:20250717T183000
DTEND;TZID=Europe/Madrid:20250717T193000
DTSTAMP:20260426T050623
CREATED:20250416T134614Z
LAST-MODIFIED:20260402T165607Z
UID:10000886-1752777000-1752780600@madisonelyse.com
SUMMARY:Vinyasa Yoga @ Be Happy
DESCRIPTION:All of the classes with Madison Elyse revolve around anatomy\, mobility and safe movement. Whether you’re an expert or a novice\, you’ll find something to challenge and inspire you in every class. Think vinyasa\, meets hatha\, meets strength. \nPreregister by texting Madison at +34 605 98 00 84\, or just show up to the studio.
URL:https://madisonelyse.com/event/vinyasa-yoga-be-happy-yoga-studio/2025-07-17/
LOCATION:Be Happy Yoga Studio\, Carrer de l'Ermità Torrandell\, Pollença\, Illes Balears\, 07460\, Spain
CATEGORIES:Yoga Classes
ORGANIZER;CN="Madison Elyse Yoga & Adventure Retreats":MAILTO:me@madisonelyse.com
END:VEVENT
BEGIN:VEVENT
DTSTART;TZID=Europe/Madrid:20250715T183000
DTEND;TZID=Europe/Madrid:20250715T193000
DTSTAMP:20260426T050623
CREATED:20250416T134614Z
LAST-MODIFIED:20260402T165607Z
UID:10000885-1752604200-1752607800@madisonelyse.com
SUMMARY:Vinyasa Yoga @ Be Happy
DESCRIPTION:All of the classes with Madison Elyse revolve around anatomy\, mobility and safe movement. Whether you’re an expert or a novice\, you’ll find something to challenge and inspire you in every class. Think vinyasa\, meets hatha\, meets strength. \nPreregister by texting Madison at +34 605 98 00 84\, or just show up to the studio.
URL:https://madisonelyse.com/event/vinyasa-yoga-be-happy-yoga-studio/2025-07-15/
LOCATION:Be Happy Yoga Studio\, Carrer de l'Ermità Torrandell\, Pollença\, Illes Balears\, 07460\, Spain
CATEGORIES:Yoga Classes
ORGANIZER;CN="Madison Elyse Yoga & Adventure Retreats":MAILTO:me@madisonelyse.com
END:VEVENT
BEGIN:VEVENT
DTSTART;TZID=Europe/Madrid:20250715T090000
DTEND;TZID=Europe/Madrid:20250715T100000
DTSTAMP:20260426T050623
CREATED:20250416T144906Z
LAST-MODIFIED:20250721T122659Z
UID:10001009-1752570000-1752573600@madisonelyse.com
SUMMARY:Hatha Yoga @ Inspira
DESCRIPTION:Join us for some poolside hatha yoga at Inspira with Madison Elyse. All classes revolve around anatomy\, mobility and safe movement. Please bring a mat! \nTo preregister\, Whatsapp Madison at +34 605 98 00 84 or simply show up for class.
URL:https://madisonelyse.com/event/hatha-yoga-inspira-2/2025-07-15/
LOCATION:Comunidad Inspira\, Carrer del Fuster\, 49\, Pollensa\, Illes Balears\, 07460\, Spain
CATEGORIES:Yoga Classes
ORGANIZER;CN="Madison Elyse Yoga & Adventure Retreats":MAILTO:me@madisonelyse.com
END:VEVENT
BEGIN:VEVENT
DTSTART;TZID=Europe/Madrid:20250713T170000
DTEND;TZID=Europe/Madrid:20250713T180000
DTSTAMP:20260426T050623
CREATED:20250416T143520Z
LAST-MODIFIED:20250416T143520Z
UID:10000208-1752426000-1752429600@madisonelyse.com
SUMMARY:Sunday Sweat Club
DESCRIPTION:Join the Sunday Sweat Club and take part in a live\, online yoga class every Sunday at 5pm CEST. \nEach week\, we’ll work through a different portion of the body to evaluate and improve your mobility while building strength and cultivating mind-body connection. And yes\, we’ll definitely get a little sweaty! \nCan’t make it to every class? No problem. I’ll send you lifetime access to the recording as soon as it’s over. That way\, you can practice on your own time and still be part of this fun\, free club. \nClick here to register.  \nLive in Pollensa and want to join in person\, for free? Message Madison at +34 605 98 00 84.
URL:https://madisonelyse.com/event/sunday-sweat-club/2025-07-13/
LOCATION:Online
CATEGORIES:Yoga Classes
ORGANIZER;CN="Madison Elyse Yoga & Adventure Retreats":MAILTO:me@madisonelyse.com
END:VEVENT
BEGIN:VEVENT
DTSTART;TZID=Europe/Madrid:20250710T183000
DTEND;TZID=Europe/Madrid:20250710T193000
DTSTAMP:20260426T050623
CREATED:20250416T134614Z
LAST-MODIFIED:20260402T165607Z
UID:10000884-1752172200-1752175800@madisonelyse.com
SUMMARY:Vinyasa Yoga @ Be Happy
DESCRIPTION:All of the classes with Madison Elyse revolve around anatomy\, mobility and safe movement. Whether you’re an expert or a novice\, you’ll find something to challenge and inspire you in every class. Think vinyasa\, meets hatha\, meets strength. \nPreregister by texting Madison at +34 605 98 00 84\, or just show up to the studio.
URL:https://madisonelyse.com/event/vinyasa-yoga-be-happy-yoga-studio/2025-07-10/
LOCATION:Be Happy Yoga Studio\, Carrer de l'Ermità Torrandell\, Pollença\, Illes Balears\, 07460\, Spain
CATEGORIES:Yoga Classes
ORGANIZER;CN="Madison Elyse Yoga & Adventure Retreats":MAILTO:me@madisonelyse.com
END:VEVENT
BEGIN:VEVENT
DTSTART;TZID=Europe/Madrid:20250708T183000
DTEND;TZID=Europe/Madrid:20250708T193000
DTSTAMP:20260426T050623
CREATED:20250416T134614Z
LAST-MODIFIED:20260402T165607Z
UID:10000883-1751999400-1752003000@madisonelyse.com
SUMMARY:Vinyasa Yoga @ Be Happy
DESCRIPTION:All of the classes with Madison Elyse revolve around anatomy\, mobility and safe movement. Whether you’re an expert or a novice\, you’ll find something to challenge and inspire you in every class. Think vinyasa\, meets hatha\, meets strength. \nPreregister by texting Madison at +34 605 98 00 84\, or just show up to the studio.
URL:https://madisonelyse.com/event/vinyasa-yoga-be-happy-yoga-studio/2025-07-08/
LOCATION:Be Happy Yoga Studio\, Carrer de l'Ermità Torrandell\, Pollença\, Illes Balears\, 07460\, Spain
CATEGORIES:Yoga Classes
ORGANIZER;CN="Madison Elyse Yoga & Adventure Retreats":MAILTO:me@madisonelyse.com
END:VEVENT
BEGIN:VEVENT
DTSTART;TZID=Europe/Madrid:20250708T090000
DTEND;TZID=Europe/Madrid:20250708T100000
DTSTAMP:20260426T050623
CREATED:20250416T144906Z
LAST-MODIFIED:20250721T122659Z
UID:10001008-1751965200-1751968800@madisonelyse.com
SUMMARY:Hatha Yoga @ Inspira
DESCRIPTION:Join us for some poolside hatha yoga at Inspira with Madison Elyse. All classes revolve around anatomy\, mobility and safe movement. Please bring a mat! \nTo preregister\, Whatsapp Madison at +34 605 98 00 84 or simply show up for class.
URL:https://madisonelyse.com/event/hatha-yoga-inspira-2/2025-07-08/
LOCATION:Comunidad Inspira\, Carrer del Fuster\, 49\, Pollensa\, Illes Balears\, 07460\, Spain
CATEGORIES:Yoga Classes
ORGANIZER;CN="Madison Elyse Yoga & Adventure Retreats":MAILTO:me@madisonelyse.com
END:VEVENT
BEGIN:VEVENT
DTSTART;TZID=Europe/Madrid:20250706T170000
DTEND;TZID=Europe/Madrid:20250706T180000
DTSTAMP:20260426T050623
CREATED:20250416T143520Z
LAST-MODIFIED:20250416T143520Z
UID:10000207-1751821200-1751824800@madisonelyse.com
SUMMARY:Sunday Sweat Club
DESCRIPTION:Join the Sunday Sweat Club and take part in a live\, online yoga class every Sunday at 5pm CEST. \nEach week\, we’ll work through a different portion of the body to evaluate and improve your mobility while building strength and cultivating mind-body connection. And yes\, we’ll definitely get a little sweaty! \nCan’t make it to every class? No problem. I’ll send you lifetime access to the recording as soon as it’s over. That way\, you can practice on your own time and still be part of this fun\, free club. \nClick here to register.  \nLive in Pollensa and want to join in person\, for free? Message Madison at +34 605 98 00 84.
URL:https://madisonelyse.com/event/sunday-sweat-club/2025-07-06/
LOCATION:Online
CATEGORIES:Yoga Classes
ORGANIZER;CN="Madison Elyse Yoga & Adventure Retreats":MAILTO:me@madisonelyse.com
END:VEVENT
BEGIN:VEVENT
DTSTART;TZID=Europe/Madrid:20250703T183000
DTEND;TZID=Europe/Madrid:20250703T193000
DTSTAMP:20260426T050623
CREATED:20250416T134614Z
LAST-MODIFIED:20260402T165607Z
UID:10000882-1751567400-1751571000@madisonelyse.com
SUMMARY:Vinyasa Yoga @ Be Happy
DESCRIPTION:All of the classes with Madison Elyse revolve around anatomy\, mobility and safe movement. Whether you’re an expert or a novice\, you’ll find something to challenge and inspire you in every class. Think vinyasa\, meets hatha\, meets strength. \nPreregister by texting Madison at +34 605 98 00 84\, or just show up to the studio.
URL:https://madisonelyse.com/event/vinyasa-yoga-be-happy-yoga-studio/2025-07-03/
LOCATION:Be Happy Yoga Studio\, Carrer de l'Ermità Torrandell\, Pollença\, Illes Balears\, 07460\, Spain
CATEGORIES:Yoga Classes
ORGANIZER;CN="Madison Elyse Yoga & Adventure Retreats":MAILTO:me@madisonelyse.com
END:VEVENT
BEGIN:VEVENT
DTSTART;TZID=Europe/Madrid:20250701T183000
DTEND;TZID=Europe/Madrid:20250701T193000
DTSTAMP:20260426T050623
CREATED:20250416T134614Z
LAST-MODIFIED:20260402T165607Z
UID:10000881-1751394600-1751398200@madisonelyse.com
SUMMARY:Vinyasa Yoga @ Be Happy
DESCRIPTION:All of the classes with Madison Elyse revolve around anatomy\, mobility and safe movement. Whether you’re an expert or a novice\, you’ll find something to challenge and inspire you in every class. Think vinyasa\, meets hatha\, meets strength. \nPreregister by texting Madison at +34 605 98 00 84\, or just show up to the studio.
URL:https://madisonelyse.com/event/vinyasa-yoga-be-happy-yoga-studio/2025-07-01/
LOCATION:Be Happy Yoga Studio\, Carrer de l'Ermità Torrandell\, Pollença\, Illes Balears\, 07460\, Spain
CATEGORIES:Yoga Classes
ORGANIZER;CN="Madison Elyse Yoga & Adventure Retreats":MAILTO:me@madisonelyse.com
END:VEVENT
BEGIN:VEVENT
DTSTART;TZID=Europe/Madrid:20250701T090000
DTEND;TZID=Europe/Madrid:20250701T100000
DTSTAMP:20260426T050623
CREATED:20250416T144906Z
LAST-MODIFIED:20250721T122659Z
UID:10001007-1751360400-1751364000@madisonelyse.com
SUMMARY:Hatha Yoga @ Inspira
DESCRIPTION:Join us for some poolside hatha yoga at Inspira with Madison Elyse. All classes revolve around anatomy\, mobility and safe movement. Please bring a mat! \nTo preregister\, Whatsapp Madison at +34 605 98 00 84 or simply show up for class.
URL:https://madisonelyse.com/event/hatha-yoga-inspira-2/2025-07-01/
LOCATION:Comunidad Inspira\, Carrer del Fuster\, 49\, Pollensa\, Illes Balears\, 07460\, Spain
CATEGORIES:Yoga Classes
ORGANIZER;CN="Madison Elyse Yoga & Adventure Retreats":MAILTO:me@madisonelyse.com
END:VEVENT
BEGIN:VEVENT
DTSTART;TZID=Europe/Madrid:20250629T170000
DTEND;TZID=Europe/Madrid:20250629T180000
DTSTAMP:20260426T050623
CREATED:20250416T143520Z
LAST-MODIFIED:20250416T143520Z
UID:10000206-1751216400-1751220000@madisonelyse.com
SUMMARY:Sunday Sweat Club
DESCRIPTION:Join the Sunday Sweat Club and take part in a live\, online yoga class every Sunday at 5pm CEST. \nEach week\, we’ll work through a different portion of the body to evaluate and improve your mobility while building strength and cultivating mind-body connection. And yes\, we’ll definitely get a little sweaty! \nCan’t make it to every class? No problem. I’ll send you lifetime access to the recording as soon as it’s over. That way\, you can practice on your own time and still be part of this fun\, free club. \nClick here to register.  \nLive in Pollensa and want to join in person\, for free? Message Madison at +34 605 98 00 84.
URL:https://madisonelyse.com/event/sunday-sweat-club/2025-06-29/
LOCATION:Online
CATEGORIES:Yoga Classes
ORGANIZER;CN="Madison Elyse Yoga & Adventure Retreats":MAILTO:me@madisonelyse.com
END:VEVENT
BEGIN:VEVENT
DTSTART;TZID=Europe/Madrid:20250626T183000
DTEND;TZID=Europe/Madrid:20250626T193000
DTSTAMP:20260426T050623
CREATED:20250416T134614Z
LAST-MODIFIED:20260402T165607Z
UID:10000880-1750962600-1750966200@madisonelyse.com
SUMMARY:Vinyasa Yoga @ Be Happy
DESCRIPTION:All of the classes with Madison Elyse revolve around anatomy\, mobility and safe movement. Whether you’re an expert or a novice\, you’ll find something to challenge and inspire you in every class. Think vinyasa\, meets hatha\, meets strength. \nPreregister by texting Madison at +34 605 98 00 84\, or just show up to the studio.
URL:https://madisonelyse.com/event/vinyasa-yoga-be-happy-yoga-studio/2025-06-26/
LOCATION:Be Happy Yoga Studio\, Carrer de l'Ermità Torrandell\, Pollença\, Illes Balears\, 07460\, Spain
CATEGORIES:Yoga Classes
ORGANIZER;CN="Madison Elyse Yoga & Adventure Retreats":MAILTO:me@madisonelyse.com
END:VEVENT
BEGIN:VEVENT
DTSTART;TZID=Europe/Madrid:20250624T183000
DTEND;TZID=Europe/Madrid:20250624T193000
DTSTAMP:20260426T050623
CREATED:20250416T134614Z
LAST-MODIFIED:20260402T165607Z
UID:10000879-1750789800-1750793400@madisonelyse.com
SUMMARY:Vinyasa Yoga @ Be Happy
DESCRIPTION:All of the classes with Madison Elyse revolve around anatomy\, mobility and safe movement. Whether you’re an expert or a novice\, you’ll find something to challenge and inspire you in every class. Think vinyasa\, meets hatha\, meets strength. \nPreregister by texting Madison at +34 605 98 00 84\, or just show up to the studio.
URL:https://madisonelyse.com/event/vinyasa-yoga-be-happy-yoga-studio/2025-06-24/
LOCATION:Be Happy Yoga Studio\, Carrer de l'Ermità Torrandell\, Pollença\, Illes Balears\, 07460\, Spain
CATEGORIES:Yoga Classes
ORGANIZER;CN="Madison Elyse Yoga & Adventure Retreats":MAILTO:me@madisonelyse.com
END:VEVENT
BEGIN:VEVENT
DTSTART;TZID=Europe/Madrid:20250624T090000
DTEND;TZID=Europe/Madrid:20250624T100000
DTSTAMP:20260426T050623
CREATED:20250416T144906Z
LAST-MODIFIED:20250721T122659Z
UID:10001006-1750755600-1750759200@madisonelyse.com
SUMMARY:Hatha Yoga @ Inspira
DESCRIPTION:Join us for some poolside hatha yoga at Inspira with Madison Elyse. All classes revolve around anatomy\, mobility and safe movement. Please bring a mat! \nTo preregister\, Whatsapp Madison at +34 605 98 00 84 or simply show up for class.
URL:https://madisonelyse.com/event/hatha-yoga-inspira-2/2025-06-24/
LOCATION:Comunidad Inspira\, Carrer del Fuster\, 49\, Pollensa\, Illes Balears\, 07460\, Spain
CATEGORIES:Yoga Classes
ORGANIZER;CN="Madison Elyse Yoga & Adventure Retreats":MAILTO:me@madisonelyse.com
END:VEVENT
BEGIN:VEVENT
DTSTART;TZID=Europe/Madrid:20250622T170000
DTEND;TZID=Europe/Madrid:20250622T180000
DTSTAMP:20260426T050623
CREATED:20250416T143520Z
LAST-MODIFIED:20250416T143520Z
UID:10000205-1750611600-1750615200@madisonelyse.com
SUMMARY:Sunday Sweat Club
DESCRIPTION:Join the Sunday Sweat Club and take part in a live\, online yoga class every Sunday at 5pm CEST. \nEach week\, we’ll work through a different portion of the body to evaluate and improve your mobility while building strength and cultivating mind-body connection. And yes\, we’ll definitely get a little sweaty! \nCan’t make it to every class? No problem. I’ll send you lifetime access to the recording as soon as it’s over. That way\, you can practice on your own time and still be part of this fun\, free club. \nClick here to register.  \nLive in Pollensa and want to join in person\, for free? Message Madison at +34 605 98 00 84.
URL:https://madisonelyse.com/event/sunday-sweat-club/2025-06-22/
LOCATION:Online
CATEGORIES:Yoga Classes
ORGANIZER;CN="Madison Elyse Yoga & Adventure Retreats":MAILTO:me@madisonelyse.com
END:VEVENT
BEGIN:VEVENT
DTSTART;TZID=Europe/Madrid:20250619T183000
DTEND;TZID=Europe/Madrid:20250619T193000
DTSTAMP:20260426T050623
CREATED:20250416T134614Z
LAST-MODIFIED:20260402T165607Z
UID:10000878-1750357800-1750361400@madisonelyse.com
SUMMARY:Vinyasa Yoga @ Be Happy
DESCRIPTION:All of the classes with Madison Elyse revolve around anatomy\, mobility and safe movement. Whether you’re an expert or a novice\, you’ll find something to challenge and inspire you in every class. Think vinyasa\, meets hatha\, meets strength. \nPreregister by texting Madison at +34 605 98 00 84\, or just show up to the studio.
URL:https://madisonelyse.com/event/vinyasa-yoga-be-happy-yoga-studio/2025-06-19/
LOCATION:Be Happy Yoga Studio\, Carrer de l'Ermità Torrandell\, Pollença\, Illes Balears\, 07460\, Spain
CATEGORIES:Yoga Classes
ORGANIZER;CN="Madison Elyse Yoga & Adventure Retreats":MAILTO:me@madisonelyse.com
END:VEVENT
END:VCALENDAR