BEGIN:VCALENDAR
VERSION:2.0
PRODID:-//Madison Elyse - ECPv6.15.20//NONSGML v1.0//EN
CALSCALE:GREGORIAN
METHOD:PUBLISH
X-WR-CALNAME:Madison Elyse
X-ORIGINAL-URL:https://madisonelyse.com
X-WR-CALDESC:Events for Madison Elyse
REFRESH-INTERVAL;VALUE=DURATION:PT1H
X-Robots-Tag:noindex
X-PUBLISHED-TTL:PT1H
BEGIN:VTIMEZONE
TZID:Europe/Madrid
BEGIN:DAYLIGHT
TZOFFSETFROM:+0100
TZOFFSETTO:+0200
TZNAME:CEST
DTSTART:20250330T010000
END:DAYLIGHT
BEGIN:STANDARD
TZOFFSETFROM:+0200
TZOFFSETTO:+0100
TZNAME:CET
DTSTART:20251026T010000
END:STANDARD
BEGIN:DAYLIGHT
TZOFFSETFROM:+0100
TZOFFSETTO:+0200
TZNAME:CEST
DTSTART:20260329T010000
END:DAYLIGHT
BEGIN:STANDARD
TZOFFSETFROM:+0200
TZOFFSETTO:+0100
TZNAME:CET
DTSTART:20261025T010000
END:STANDARD
BEGIN:DAYLIGHT
TZOFFSETFROM:+0100
TZOFFSETTO:+0200
TZNAME:CEST
DTSTART:20270328T010000
END:DAYLIGHT
BEGIN:STANDARD
TZOFFSETFROM:+0200
TZOFFSETTO:+0100
TZNAME:CET
DTSTART:20271031T010000
END:STANDARD
END:VTIMEZONE
BEGIN:VEVENT
DTSTART;TZID=Europe/Madrid:20260301T170000
DTEND;TZID=Europe/Madrid:20260301T180000
DTSTAMP:20260425T173136
CREATED:20250416T143520Z
LAST-MODIFIED:20250416T143520Z
UID:10000241-1772384400-1772388000@madisonelyse.com
SUMMARY:Sunday Sweat Club
DESCRIPTION:Join the Sunday Sweat Club and take part in a live\, online yoga class every Sunday at 5pm CEST. \nEach week\, we’ll work through a different portion of the body to evaluate and improve your mobility while building strength and cultivating mind-body connection. And yes\, we’ll definitely get a little sweaty! \nCan’t make it to every class? No problem. I’ll send you lifetime access to the recording as soon as it’s over. That way\, you can practice on your own time and still be part of this fun\, free club. \nClick here to register.  \nLive in Pollensa and want to join in person\, for free? Message Madison at +34 605 98 00 84.
URL:https://madisonelyse.com/event/sunday-sweat-club/2026-03-01/
LOCATION:Online
CATEGORIES:Yoga Classes
ORGANIZER;CN="Madison Elyse Yoga & Adventure Retreats":MAILTO:me@madisonelyse.com
END:VEVENT
BEGIN:VEVENT
DTSTART;TZID=Europe/Madrid:20260308T170000
DTEND;TZID=Europe/Madrid:20260308T180000
DTSTAMP:20260425T173136
CREATED:20250416T143520Z
LAST-MODIFIED:20250416T143520Z
UID:10000242-1772989200-1772992800@madisonelyse.com
SUMMARY:Sunday Sweat Club
DESCRIPTION:Join the Sunday Sweat Club and take part in a live\, online yoga class every Sunday at 5pm CEST. \nEach week\, we’ll work through a different portion of the body to evaluate and improve your mobility while building strength and cultivating mind-body connection. And yes\, we’ll definitely get a little sweaty! \nCan’t make it to every class? No problem. I’ll send you lifetime access to the recording as soon as it’s over. That way\, you can practice on your own time and still be part of this fun\, free club. \nClick here to register.  \nLive in Pollensa and want to join in person\, for free? Message Madison at +34 605 98 00 84.
URL:https://madisonelyse.com/event/sunday-sweat-club/2026-03-08/
LOCATION:Online
CATEGORIES:Yoga Classes
ORGANIZER;CN="Madison Elyse Yoga & Adventure Retreats":MAILTO:me@madisonelyse.com
END:VEVENT
BEGIN:VEVENT
DTSTART;TZID=Europe/Madrid:20260315T170000
DTEND;TZID=Europe/Madrid:20260315T180000
DTSTAMP:20260425T173136
CREATED:20250416T143520Z
LAST-MODIFIED:20250416T143520Z
UID:10000243-1773594000-1773597600@madisonelyse.com
SUMMARY:Sunday Sweat Club
DESCRIPTION:Join the Sunday Sweat Club and take part in a live\, online yoga class every Sunday at 5pm CEST. \nEach week\, we’ll work through a different portion of the body to evaluate and improve your mobility while building strength and cultivating mind-body connection. And yes\, we’ll definitely get a little sweaty! \nCan’t make it to every class? No problem. I’ll send you lifetime access to the recording as soon as it’s over. That way\, you can practice on your own time and still be part of this fun\, free club. \nClick here to register.  \nLive in Pollensa and want to join in person\, for free? Message Madison at +34 605 98 00 84.
URL:https://madisonelyse.com/event/sunday-sweat-club/2026-03-15/
LOCATION:Online
CATEGORIES:Yoga Classes
ORGANIZER;CN="Madison Elyse Yoga & Adventure Retreats":MAILTO:me@madisonelyse.com
END:VEVENT
BEGIN:VEVENT
DTSTART;TZID=Europe/Madrid:20260317T180000
DTEND;TZID=Europe/Madrid:20260317T190000
DTSTAMP:20260425T173136
CREATED:20250416T134614Z
LAST-MODIFIED:20260402T165607Z
UID:10000861-1773770400-1773774000@madisonelyse.com
SUMMARY:Vinyasa Yoga @ Be Happy
DESCRIPTION:All of the classes with Madison Elyse revolve around anatomy\, mobility and safe movement. Whether you’re an expert or a novice\, you’ll find something to challenge and inspire you in every class. Think vinyasa\, meets hatha\, meets strength. \nPreregister by texting Madison at +34 605 98 00 84\, or just show up to the studio.
URL:https://madisonelyse.com/event/vinyasa-yoga-be-happy-yoga-studio/2026-03-17/1/
LOCATION:Be Happy Yoga Studio\, Carrer de l'Ermità Torrandell\, Pollença\, Illes Balears\, 07460\, Spain
CATEGORIES:Yoga Classes
ORGANIZER;CN="Madison Elyse Yoga & Adventure Retreats":MAILTO:me@madisonelyse.com
END:VEVENT
BEGIN:VEVENT
DTSTART;TZID=Europe/Madrid:20260317T183000
DTEND;TZID=Europe/Madrid:20260317T193000
DTSTAMP:20260425T173136
CREATED:20250416T134614Z
LAST-MODIFIED:20260402T165607Z
UID:10000862-1773772200-1773775800@madisonelyse.com
SUMMARY:Vinyasa Yoga @ Be Happy
DESCRIPTION:All of the classes with Madison Elyse revolve around anatomy\, mobility and safe movement. Whether you’re an expert or a novice\, you’ll find something to challenge and inspire you in every class. Think vinyasa\, meets hatha\, meets strength. \nPreregister by texting Madison at +34 605 98 00 84\, or just show up to the studio.
URL:https://madisonelyse.com/event/vinyasa-yoga-be-happy-yoga-studio/2026-03-17/2/
LOCATION:Be Happy Yoga Studio\, Carrer de l'Ermità Torrandell\, Pollença\, Illes Balears\, 07460\, Spain
CATEGORIES:Yoga Classes
ORGANIZER;CN="Madison Elyse Yoga & Adventure Retreats":MAILTO:me@madisonelyse.com
END:VEVENT
BEGIN:VEVENT
DTSTART;TZID=Europe/Madrid:20260320T183000
DTEND;TZID=Europe/Madrid:20260320T193000
DTSTAMP:20260425T173136
CREATED:20250918T130333Z
LAST-MODIFIED:20260402T165549Z
UID:10001180-1774031400-1774035000@madisonelyse.com
SUMMARY:Vinyasa Yoga @ Be Happy
DESCRIPTION:All of the classes with Madison Elyse revolve around anatomy\, mobility and safe movement. Whether you’re an expert or a novice\, you’ll find something to challenge and inspire you in every class. Think vinyasa\, meets hatha\, meets strength. \nPreregister by texting Madison at +34 605 98 00 84.
URL:https://madisonelyse.com/event/vinyasa-yoga-be-happy-5/2026-03-20/
LOCATION:Be Happy Yoga Studio\, Carrer de l'Ermità Torrandell\, Pollença\, Illes Balears\, 07460\, Spain
CATEGORIES:Yoga Classes
ORGANIZER;CN="Madison Elyse Yoga & Adventure Retreats":MAILTO:me@madisonelyse.com
END:VEVENT
BEGIN:VEVENT
DTSTART;TZID=Europe/Madrid:20260322T170000
DTEND;TZID=Europe/Madrid:20260322T180000
DTSTAMP:20260425T173136
CREATED:20250416T143520Z
LAST-MODIFIED:20250416T143520Z
UID:10000244-1774198800-1774202400@madisonelyse.com
SUMMARY:Sunday Sweat Club
DESCRIPTION:Join the Sunday Sweat Club and take part in a live\, online yoga class every Sunday at 5pm CEST. \nEach week\, we’ll work through a different portion of the body to evaluate and improve your mobility while building strength and cultivating mind-body connection. And yes\, we’ll definitely get a little sweaty! \nCan’t make it to every class? No problem. I’ll send you lifetime access to the recording as soon as it’s over. That way\, you can practice on your own time and still be part of this fun\, free club. \nClick here to register.  \nLive in Pollensa and want to join in person\, for free? Message Madison at +34 605 98 00 84.
URL:https://madisonelyse.com/event/sunday-sweat-club/2026-03-22/
LOCATION:Online
CATEGORIES:Yoga Classes
ORGANIZER;CN="Madison Elyse Yoga & Adventure Retreats":MAILTO:me@madisonelyse.com
END:VEVENT
BEGIN:VEVENT
DTSTART;TZID=Europe/Madrid:20260324T183000
DTEND;TZID=Europe/Madrid:20260324T193000
DTSTAMP:20260425T173136
CREATED:20250918T131641Z
LAST-MODIFIED:20260402T165532Z
UID:10001223-1774377000-1774380600@madisonelyse.com
SUMMARY:Vinyasa Yoga @ Be Happy
DESCRIPTION:All of the classes with Madison Elyse revolve around anatomy\, mobility and safe movement. Whether you’re an expert or a novice\, you’ll find something to challenge and inspire you in every class. Think vinyasa\, meets hatha\, meets strength. \nPreregister by texting Madison at +34 605 98 00 84.
URL:https://madisonelyse.com/event/vinyasa-yoga-be-happy-8/2026-03-24/
LOCATION:Be Happy Yoga Studio\, Carrer de l'Ermità Torrandell\, Pollença\, Illes Balears\, 07460\, Spain
CATEGORIES:Yoga Classes
ORGANIZER;CN="Madison Elyse Yoga & Adventure Retreats":MAILTO:me@madisonelyse.com
END:VEVENT
BEGIN:VEVENT
DTSTART;TZID=Europe/Madrid:20260329T170000
DTEND;TZID=Europe/Madrid:20260329T180000
DTSTAMP:20260425T173136
CREATED:20250416T143520Z
LAST-MODIFIED:20250416T143520Z
UID:10000245-1774803600-1774807200@madisonelyse.com
SUMMARY:Sunday Sweat Club
DESCRIPTION:Join the Sunday Sweat Club and take part in a live\, online yoga class every Sunday at 5pm CEST. \nEach week\, we’ll work through a different portion of the body to evaluate and improve your mobility while building strength and cultivating mind-body connection. And yes\, we’ll definitely get a little sweaty! \nCan’t make it to every class? No problem. I’ll send you lifetime access to the recording as soon as it’s over. That way\, you can practice on your own time and still be part of this fun\, free club. \nClick here to register.  \nLive in Pollensa and want to join in person\, for free? Message Madison at +34 605 98 00 84.
URL:https://madisonelyse.com/event/sunday-sweat-club/2026-03-29/
LOCATION:Online
CATEGORIES:Yoga Classes
ORGANIZER;CN="Madison Elyse Yoga & Adventure Retreats":MAILTO:me@madisonelyse.com
END:VEVENT
BEGIN:VEVENT
DTSTART;TZID=Europe/Madrid:20260331T183000
DTEND;TZID=Europe/Madrid:20260331T193000
DTSTAMP:20260425T173136
CREATED:20250725T200330Z
LAST-MODIFIED:20260402T165515Z
UID:10001066-1774981800-1774985400@madisonelyse.com
SUMMARY:Vinyasa Yoga @ Be Happy
DESCRIPTION:All of the classes with Madison Elyse revolve around anatomy\, mobility and safe movement. Whether you’re an expert or a novice\, you’ll find something to challenge and inspire you in every class. Think vinyasa\, meets hatha\, meets strength. \nPreregister by texting Madison at +34 605 98 00 84\, or just show up to the studio.
URL:https://madisonelyse.com/event/vinyasa-yoga-be-happy-2/2026-03-31/
LOCATION:Be Happy Yoga Studio\, Carrer de l'Ermità Torrandell\, Pollença\, Illes Balears\, 07460\, Spain
ORGANIZER;CN="Madison Elyse Yoga & Adventure Retreats":MAILTO:me@madisonelyse.com
END:VEVENT
END:VCALENDAR