BEGIN:VCALENDAR
VERSION:2.0
PRODID:-//Madison Elyse - ECPv6.15.20//NONSGML v1.0//EN
CALSCALE:GREGORIAN
METHOD:PUBLISH
X-ORIGINAL-URL:https://madisonelyse.com
X-WR-CALDESC:Events for Madison Elyse
REFRESH-INTERVAL;VALUE=DURATION:PT1H
X-Robots-Tag:noindex
X-PUBLISHED-TTL:PT1H
BEGIN:VTIMEZONE
TZID:Europe/Madrid
BEGIN:DAYLIGHT
TZOFFSETFROM:+0100
TZOFFSETTO:+0200
TZNAME:CEST
DTSTART:20260329T010000
END:DAYLIGHT
BEGIN:STANDARD
TZOFFSETFROM:+0200
TZOFFSETTO:+0100
TZNAME:CET
DTSTART:20261025T010000
END:STANDARD
BEGIN:DAYLIGHT
TZOFFSETFROM:+0100
TZOFFSETTO:+0200
TZNAME:CEST
DTSTART:20270328T010000
END:DAYLIGHT
BEGIN:STANDARD
TZOFFSETFROM:+0200
TZOFFSETTO:+0100
TZNAME:CET
DTSTART:20271031T010000
END:STANDARD
BEGIN:DAYLIGHT
TZOFFSETFROM:+0100
TZOFFSETTO:+0200
TZNAME:CEST
DTSTART:20280326T010000
END:DAYLIGHT
BEGIN:STANDARD
TZOFFSETFROM:+0200
TZOFFSETTO:+0100
TZNAME:CET
DTSTART:20281029T010000
END:STANDARD
END:VTIMEZONE
BEGIN:VEVENT
DTSTART;TZID=Europe/Madrid:20270103T170000
DTEND;TZID=Europe/Madrid:20270103T180000
DTSTAMP:20260426T050625
CREATED:20250416T143520Z
LAST-MODIFIED:20250416T143520Z
UID:10000285-1798995600-1798999200@madisonelyse.com
SUMMARY:Sunday Sweat Club
DESCRIPTION:Join the Sunday Sweat Club and take part in a live\, online yoga class every Sunday at 5pm CEST. \nEach week\, we’ll work through a different portion of the body to evaluate and improve your mobility while building strength and cultivating mind-body connection. And yes\, we’ll definitely get a little sweaty! \nCan’t make it to every class? No problem. I’ll send you lifetime access to the recording as soon as it’s over. That way\, you can practice on your own time and still be part of this fun\, free club. \nClick here to register.  \nLive in Pollensa and want to join in person\, for free? Message Madison at +34 605 98 00 84.
URL:https://madisonelyse.com/event/sunday-sweat-club/2027-01-03/
LOCATION:Online
CATEGORIES:Yoga Classes
ORGANIZER;CN="Madison Elyse Yoga & Adventure Retreats":MAILTO:me@madisonelyse.com
END:VEVENT
BEGIN:VEVENT
DTSTART;TZID=Europe/Madrid:20270110T170000
DTEND;TZID=Europe/Madrid:20270110T180000
DTSTAMP:20260426T050625
CREATED:20250416T143520Z
LAST-MODIFIED:20250416T143520Z
UID:10000286-1799600400-1799604000@madisonelyse.com
SUMMARY:Sunday Sweat Club
DESCRIPTION:Join the Sunday Sweat Club and take part in a live\, online yoga class every Sunday at 5pm CEST. \nEach week\, we’ll work through a different portion of the body to evaluate and improve your mobility while building strength and cultivating mind-body connection. And yes\, we’ll definitely get a little sweaty! \nCan’t make it to every class? No problem. I’ll send you lifetime access to the recording as soon as it’s over. That way\, you can practice on your own time and still be part of this fun\, free club. \nClick here to register.  \nLive in Pollensa and want to join in person\, for free? Message Madison at +34 605 98 00 84.
URL:https://madisonelyse.com/event/sunday-sweat-club/2027-01-10/
LOCATION:Online
CATEGORIES:Yoga Classes
ORGANIZER;CN="Madison Elyse Yoga & Adventure Retreats":MAILTO:me@madisonelyse.com
END:VEVENT
BEGIN:VEVENT
DTSTART;TZID=Europe/Madrid:20270117T170000
DTEND;TZID=Europe/Madrid:20270117T180000
DTSTAMP:20260426T050625
CREATED:20250416T143520Z
LAST-MODIFIED:20250416T143520Z
UID:10000287-1800205200-1800208800@madisonelyse.com
SUMMARY:Sunday Sweat Club
DESCRIPTION:Join the Sunday Sweat Club and take part in a live\, online yoga class every Sunday at 5pm CEST. \nEach week\, we’ll work through a different portion of the body to evaluate and improve your mobility while building strength and cultivating mind-body connection. And yes\, we’ll definitely get a little sweaty! \nCan’t make it to every class? No problem. I’ll send you lifetime access to the recording as soon as it’s over. That way\, you can practice on your own time and still be part of this fun\, free club. \nClick here to register.  \nLive in Pollensa and want to join in person\, for free? Message Madison at +34 605 98 00 84.
URL:https://madisonelyse.com/event/sunday-sweat-club/2027-01-17/
LOCATION:Online
CATEGORIES:Yoga Classes
ORGANIZER;CN="Madison Elyse Yoga & Adventure Retreats":MAILTO:me@madisonelyse.com
END:VEVENT
BEGIN:VEVENT
DTSTART;TZID=Europe/Madrid:20270124T170000
DTEND;TZID=Europe/Madrid:20270124T180000
DTSTAMP:20260426T050625
CREATED:20250416T143520Z
LAST-MODIFIED:20250416T143520Z
UID:10000288-1800810000-1800813600@madisonelyse.com
SUMMARY:Sunday Sweat Club
DESCRIPTION:Join the Sunday Sweat Club and take part in a live\, online yoga class every Sunday at 5pm CEST. \nEach week\, we’ll work through a different portion of the body to evaluate and improve your mobility while building strength and cultivating mind-body connection. And yes\, we’ll definitely get a little sweaty! \nCan’t make it to every class? No problem. I’ll send you lifetime access to the recording as soon as it’s over. That way\, you can practice on your own time and still be part of this fun\, free club. \nClick here to register.  \nLive in Pollensa and want to join in person\, for free? Message Madison at +34 605 98 00 84.
URL:https://madisonelyse.com/event/sunday-sweat-club/2027-01-24/
LOCATION:Online
CATEGORIES:Yoga Classes
ORGANIZER;CN="Madison Elyse Yoga & Adventure Retreats":MAILTO:me@madisonelyse.com
END:VEVENT
BEGIN:VEVENT
DTSTART;TZID=Europe/Madrid:20270131T170000
DTEND;TZID=Europe/Madrid:20270131T180000
DTSTAMP:20260426T050625
CREATED:20250416T143520Z
LAST-MODIFIED:20250416T143520Z
UID:10000289-1801414800-1801418400@madisonelyse.com
SUMMARY:Sunday Sweat Club
DESCRIPTION:Join the Sunday Sweat Club and take part in a live\, online yoga class every Sunday at 5pm CEST. \nEach week\, we’ll work through a different portion of the body to evaluate and improve your mobility while building strength and cultivating mind-body connection. And yes\, we’ll definitely get a little sweaty! \nCan’t make it to every class? No problem. I’ll send you lifetime access to the recording as soon as it’s over. That way\, you can practice on your own time and still be part of this fun\, free club. \nClick here to register.  \nLive in Pollensa and want to join in person\, for free? Message Madison at +34 605 98 00 84.
URL:https://madisonelyse.com/event/sunday-sweat-club/2027-01-31/
LOCATION:Online
CATEGORIES:Yoga Classes
ORGANIZER;CN="Madison Elyse Yoga & Adventure Retreats":MAILTO:me@madisonelyse.com
END:VEVENT
END:VCALENDAR