BEGIN:VCALENDAR
VERSION:2.0
PRODID:-//Madison Elyse - ECPv6.15.20//NONSGML v1.0//EN
CALSCALE:GREGORIAN
METHOD:PUBLISH
X-WR-CALNAME:Madison Elyse
X-ORIGINAL-URL:https://madisonelyse.com
X-WR-CALDESC:Events for Madison Elyse
REFRESH-INTERVAL;VALUE=DURATION:PT1H
X-Robots-Tag:noindex
X-PUBLISHED-TTL:PT1H
BEGIN:VTIMEZONE
TZID:Europe/Madrid
BEGIN:DAYLIGHT
TZOFFSETFROM:+0100
TZOFFSETTO:+0200
TZNAME:CEST
DTSTART:20260329T010000
END:DAYLIGHT
BEGIN:STANDARD
TZOFFSETFROM:+0200
TZOFFSETTO:+0100
TZNAME:CET
DTSTART:20261025T010000
END:STANDARD
BEGIN:DAYLIGHT
TZOFFSETFROM:+0100
TZOFFSETTO:+0200
TZNAME:CEST
DTSTART:20270328T010000
END:DAYLIGHT
BEGIN:STANDARD
TZOFFSETFROM:+0200
TZOFFSETTO:+0100
TZNAME:CET
DTSTART:20271031T010000
END:STANDARD
BEGIN:DAYLIGHT
TZOFFSETFROM:+0100
TZOFFSETTO:+0200
TZNAME:CEST
DTSTART:20280326T010000
END:DAYLIGHT
BEGIN:STANDARD
TZOFFSETFROM:+0200
TZOFFSETTO:+0100
TZNAME:CET
DTSTART:20281029T010000
END:STANDARD
END:VTIMEZONE
BEGIN:VEVENT
DTSTART;TZID=Europe/Madrid:20270207T170000
DTEND;TZID=Europe/Madrid:20270207T180000
DTSTAMP:20260426T063156
CREATED:20250416T143520Z
LAST-MODIFIED:20250416T143520Z
UID:10000290-1802019600-1802023200@madisonelyse.com
SUMMARY:Sunday Sweat Club
DESCRIPTION:Join the Sunday Sweat Club and take part in a live\, online yoga class every Sunday at 5pm CEST. \nEach week\, we’ll work through a different portion of the body to evaluate and improve your mobility while building strength and cultivating mind-body connection. And yes\, we’ll definitely get a little sweaty! \nCan’t make it to every class? No problem. I’ll send you lifetime access to the recording as soon as it’s over. That way\, you can practice on your own time and still be part of this fun\, free club. \nClick here to register.  \nLive in Pollensa and want to join in person\, for free? Message Madison at +34 605 98 00 84.
URL:https://madisonelyse.com/event/sunday-sweat-club/2027-02-07/
LOCATION:Online
CATEGORIES:Yoga Classes
ORGANIZER;CN="Madison Elyse Yoga & Adventure Retreats":MAILTO:me@madisonelyse.com
END:VEVENT
BEGIN:VEVENT
DTSTART;TZID=Europe/Madrid:20270214T170000
DTEND;TZID=Europe/Madrid:20270214T180000
DTSTAMP:20260426T063156
CREATED:20250416T143520Z
LAST-MODIFIED:20250416T143520Z
UID:10000291-1802624400-1802628000@madisonelyse.com
SUMMARY:Sunday Sweat Club
DESCRIPTION:Join the Sunday Sweat Club and take part in a live\, online yoga class every Sunday at 5pm CEST. \nEach week\, we’ll work through a different portion of the body to evaluate and improve your mobility while building strength and cultivating mind-body connection. And yes\, we’ll definitely get a little sweaty! \nCan’t make it to every class? No problem. I’ll send you lifetime access to the recording as soon as it’s over. That way\, you can practice on your own time and still be part of this fun\, free club. \nClick here to register.  \nLive in Pollensa and want to join in person\, for free? Message Madison at +34 605 98 00 84.
URL:https://madisonelyse.com/event/sunday-sweat-club/2027-02-14/
LOCATION:Online
CATEGORIES:Yoga Classes
ORGANIZER;CN="Madison Elyse Yoga & Adventure Retreats":MAILTO:me@madisonelyse.com
END:VEVENT
BEGIN:VEVENT
DTSTART;TZID=Europe/Madrid:20270221T170000
DTEND;TZID=Europe/Madrid:20270221T180000
DTSTAMP:20260426T063156
CREATED:20250416T143520Z
LAST-MODIFIED:20250416T143520Z
UID:10000292-1803229200-1803232800@madisonelyse.com
SUMMARY:Sunday Sweat Club
DESCRIPTION:Join the Sunday Sweat Club and take part in a live\, online yoga class every Sunday at 5pm CEST. \nEach week\, we’ll work through a different portion of the body to evaluate and improve your mobility while building strength and cultivating mind-body connection. And yes\, we’ll definitely get a little sweaty! \nCan’t make it to every class? No problem. I’ll send you lifetime access to the recording as soon as it’s over. That way\, you can practice on your own time and still be part of this fun\, free club. \nClick here to register.  \nLive in Pollensa and want to join in person\, for free? Message Madison at +34 605 98 00 84.
URL:https://madisonelyse.com/event/sunday-sweat-club/2027-02-21/
LOCATION:Online
CATEGORIES:Yoga Classes
ORGANIZER;CN="Madison Elyse Yoga & Adventure Retreats":MAILTO:me@madisonelyse.com
END:VEVENT
BEGIN:VEVENT
DTSTART;TZID=Europe/Madrid:20270228T170000
DTEND;TZID=Europe/Madrid:20270228T180000
DTSTAMP:20260426T063156
CREATED:20250416T143520Z
LAST-MODIFIED:20250416T143520Z
UID:10000293-1803834000-1803837600@madisonelyse.com
SUMMARY:Sunday Sweat Club
DESCRIPTION:Join the Sunday Sweat Club and take part in a live\, online yoga class every Sunday at 5pm CEST. \nEach week\, we’ll work through a different portion of the body to evaluate and improve your mobility while building strength and cultivating mind-body connection. And yes\, we’ll definitely get a little sweaty! \nCan’t make it to every class? No problem. I’ll send you lifetime access to the recording as soon as it’s over. That way\, you can practice on your own time and still be part of this fun\, free club. \nClick here to register.  \nLive in Pollensa and want to join in person\, for free? Message Madison at +34 605 98 00 84.
URL:https://madisonelyse.com/event/sunday-sweat-club/2027-02-28/
LOCATION:Online
CATEGORIES:Yoga Classes
ORGANIZER;CN="Madison Elyse Yoga & Adventure Retreats":MAILTO:me@madisonelyse.com
END:VEVENT
END:VCALENDAR