BEGIN:VCALENDAR
VERSION:2.0
PRODID:-//Madison Elyse - ECPv6.15.20//NONSGML v1.0//EN
CALSCALE:GREGORIAN
METHOD:PUBLISH
X-ORIGINAL-URL:https://madisonelyse.com
X-WR-CALDESC:Events for Madison Elyse
REFRESH-INTERVAL;VALUE=DURATION:PT1H
X-Robots-Tag:noindex
X-PUBLISHED-TTL:PT1H
BEGIN:VTIMEZONE
TZID:Europe/Madrid
BEGIN:DAYLIGHT
TZOFFSETFROM:+0100
TZOFFSETTO:+0200
TZNAME:CEST
DTSTART:20240331T010000
END:DAYLIGHT
BEGIN:STANDARD
TZOFFSETFROM:+0200
TZOFFSETTO:+0100
TZNAME:CET
DTSTART:20241027T010000
END:STANDARD
BEGIN:DAYLIGHT
TZOFFSETFROM:+0100
TZOFFSETTO:+0200
TZNAME:CEST
DTSTART:20250330T010000
END:DAYLIGHT
BEGIN:STANDARD
TZOFFSETFROM:+0200
TZOFFSETTO:+0100
TZNAME:CET
DTSTART:20251026T010000
END:STANDARD
BEGIN:DAYLIGHT
TZOFFSETFROM:+0100
TZOFFSETTO:+0200
TZNAME:CEST
DTSTART:20260329T010000
END:DAYLIGHT
BEGIN:STANDARD
TZOFFSETFROM:+0200
TZOFFSETTO:+0100
TZNAME:CET
DTSTART:20261025T010000
END:STANDARD
BEGIN:DAYLIGHT
TZOFFSETFROM:+0100
TZOFFSETTO:+0200
TZNAME:CEST
DTSTART:20270328T010000
END:DAYLIGHT
BEGIN:STANDARD
TZOFFSETFROM:+0200
TZOFFSETTO:+0100
TZNAME:CET
DTSTART:20271031T010000
END:STANDARD
END:VTIMEZONE
BEGIN:VEVENT
DTSTART;TZID=Europe/Madrid:20260212T180000
DTEND;TZID=Europe/Madrid:20260212T190000
DTSTAMP:20260425T215623
CREATED:20250811T142941Z
LAST-MODIFIED:20260201T144013Z
UID:10001069-1770919200-1770922800@madisonelyse.com
SUMMARY:Vinyasa Yoga @ Be Happy
DESCRIPTION:All of the classes with Madison Elyse revolve around anatomy\, mobility and safe movement. Whether you’re an expert or a novice\, you’ll find something to challenge and inspire you in every class. Think vinyasa\, meets hatha\, meets strength. \nPreregister by texting Madison at +34 605 98 00 84.
URL:https://madisonelyse.com/event/vinyasa-yoga-be-happy-3/2026-02-12/
LOCATION:Be Happy Yoga Studio\, Carrer de l'Ermità Torrandell\, Pollença\, Illes Balears\, 07460\, Spain
CATEGORIES:Yoga Classes
ORGANIZER;CN="Madison Elyse Yoga & Adventure Retreats":MAILTO:me@madisonelyse.com
END:VEVENT
BEGIN:VEVENT
DTSTART;TZID=Europe/Madrid:20260210T180000
DTEND;TZID=Europe/Madrid:20260210T190000
DTSTAMP:20260425T215623
CREATED:20260201T143732Z
LAST-MODIFIED:20260201T143732Z
UID:10001278-1770746400-1770750000@madisonelyse.com
SUMMARY:Vinyasa Yoga @ Be Happy Yoga
DESCRIPTION:All of the classes with Madison Elyse revolve around anatomy\, mobility and safe movement. Whether you’re an expert or a novice\, you’ll find something to challenge and inspire you in every class. Think vinyasa\, meets hatha\, meets strength. \nPreregister by texting Madison at +34 605 98 00 84.
URL:https://madisonelyse.com/event/vinyasa-yoga-be-happy-yoga/
LOCATION:Be Happy Yoga Studio\, Carrer de l'Ermità Torrandell\, Pollença\, Illes Balears\, 07460\, Spain
CATEGORIES:Yoga Classes
ORGANIZER;CN="Madison Elyse Yoga & Adventure Retreats":MAILTO:me@madisonelyse.com
END:VEVENT
BEGIN:VEVENT
DTSTART;TZID=Europe/Madrid:20260206T180000
DTEND;TZID=Europe/Madrid:20260206T190000
DTSTAMP:20260425T215623
CREATED:20250502T085311Z
LAST-MODIFIED:20260201T143938Z
UID:10000595-1770400800-1770404400@madisonelyse.com
SUMMARY:Vinyasa Yoga @ Be Happy
DESCRIPTION:All of the classes with Madison Elyse revolve around anatomy\, mobility and safe movement. Whether you’re an expert or a novice\, you’ll find something to challenge and inspire you in every class. Think vinyasa\, meets hatha\, meets strength. \nPreregister by texting Madison at +34 605 98 00 84\, or just show up to the studio.
URL:https://madisonelyse.com/event/vinyasa-yoga-be-happy/2026-02-06/
LOCATION:Be Happy Yoga Studio\, Carrer de l'Ermità Torrandell\, Pollença\, Illes Balears\, 07460\, Spain
END:VEVENT
BEGIN:VEVENT
DTSTART;TZID=Europe/Madrid:20260203T180000
DTEND;TZID=Europe/Madrid:20260203T190000
DTSTAMP:20260425T215623
CREATED:20250918T130750Z
LAST-MODIFIED:20260201T143452Z
UID:10001193-1770141600-1770145200@madisonelyse.com
SUMMARY:Vinyasa Yoga @ Be Happy
DESCRIPTION:All of the classes with Madison Elyse revolve around anatomy\, mobility and safe movement. Whether you’re an expert or a novice\, you’ll find something to challenge and inspire you in every class. Think vinyasa\, meets hatha\, meets strength. \nPreregister by texting Madison at +34 605 98 00 84.
URL:https://madisonelyse.com/event/vinyasa-yoga-be-happy-7/2026-02-03/
LOCATION:Be Happy Yoga Studio\, Carrer de l'Ermità Torrandell\, Pollença\, Illes Balears\, 07460\, Spain
CATEGORIES:Yoga Classes
ORGANIZER;CN="Madison Elyse Yoga & Adventure Retreats":MAILTO:me@madisonelyse.com
END:VEVENT
BEGIN:VEVENT
DTSTART;TZID=Europe/Madrid:20251125T183000
DTEND;TZID=Europe/Madrid:20251125T193000
DTSTAMP:20260425T215623
CREATED:20250918T130333Z
LAST-MODIFIED:20260402T165549Z
UID:10001185-1764095400-1764099000@madisonelyse.com
SUMMARY:Vinyasa Yoga @ Be Happy
DESCRIPTION:All of the classes with Madison Elyse revolve around anatomy\, mobility and safe movement. Whether you’re an expert or a novice\, you’ll find something to challenge and inspire you in every class. Think vinyasa\, meets hatha\, meets strength. \nPreregister by texting Madison at +34 605 98 00 84.
URL:https://madisonelyse.com/event/vinyasa-yoga-be-happy-5/2025-11-25/
LOCATION:Be Happy Yoga Studio\, Carrer de l'Ermità Torrandell\, Pollença\, Illes Balears\, 07460\, Spain
CATEGORIES:Yoga Classes
ORGANIZER;CN="Madison Elyse Yoga & Adventure Retreats":MAILTO:me@madisonelyse.com
END:VEVENT
BEGIN:VEVENT
DTSTART;TZID=Europe/Madrid:20251123T093000
DTEND;TZID=Europe/Madrid:20251123T223000
DTSTAMP:20260425T215623
CREATED:20250918T130750Z
LAST-MODIFIED:20260201T143452Z
UID:10001199-1763890200-1763937000@madisonelyse.com
SUMMARY:Vinyasa Yoga @ Be Happy
DESCRIPTION:All of the classes with Madison Elyse revolve around anatomy\, mobility and safe movement. Whether you’re an expert or a novice\, you’ll find something to challenge and inspire you in every class. Think vinyasa\, meets hatha\, meets strength. \nPreregister by texting Madison at +34 605 98 00 84.
URL:https://madisonelyse.com/event/vinyasa-yoga-be-happy-7/2025-11-23/
LOCATION:Be Happy Yoga Studio\, Carrer de l'Ermità Torrandell\, Pollença\, Illes Balears\, 07460\, Spain
CATEGORIES:Yoga Classes
ORGANIZER;CN="Madison Elyse Yoga & Adventure Retreats":MAILTO:me@madisonelyse.com
END:VEVENT
BEGIN:VEVENT
DTSTART;TZID=Europe/Madrid:20251118T183000
DTEND;TZID=Europe/Madrid:20251118T193000
DTSTAMP:20260425T215623
CREATED:20250918T130333Z
LAST-MODIFIED:20260402T165549Z
UID:10001184-1763490600-1763494200@madisonelyse.com
SUMMARY:Vinyasa Yoga @ Be Happy
DESCRIPTION:All of the classes with Madison Elyse revolve around anatomy\, mobility and safe movement. Whether you’re an expert or a novice\, you’ll find something to challenge and inspire you in every class. Think vinyasa\, meets hatha\, meets strength. \nPreregister by texting Madison at +34 605 98 00 84.
URL:https://madisonelyse.com/event/vinyasa-yoga-be-happy-5/2025-11-18/
LOCATION:Be Happy Yoga Studio\, Carrer de l'Ermità Torrandell\, Pollença\, Illes Balears\, 07460\, Spain
CATEGORIES:Yoga Classes
ORGANIZER;CN="Madison Elyse Yoga & Adventure Retreats":MAILTO:me@madisonelyse.com
END:VEVENT
BEGIN:VEVENT
DTSTART;TZID=Europe/Madrid:20251116T093000
DTEND;TZID=Europe/Madrid:20251116T223000
DTSTAMP:20260425T215623
CREATED:20250918T130750Z
LAST-MODIFIED:20260201T143452Z
UID:10001198-1763285400-1763332200@madisonelyse.com
SUMMARY:Vinyasa Yoga @ Be Happy
DESCRIPTION:All of the classes with Madison Elyse revolve around anatomy\, mobility and safe movement. Whether you’re an expert or a novice\, you’ll find something to challenge and inspire you in every class. Think vinyasa\, meets hatha\, meets strength. \nPreregister by texting Madison at +34 605 98 00 84.
URL:https://madisonelyse.com/event/vinyasa-yoga-be-happy-7/2025-11-16/
LOCATION:Be Happy Yoga Studio\, Carrer de l'Ermità Torrandell\, Pollença\, Illes Balears\, 07460\, Spain
CATEGORIES:Yoga Classes
ORGANIZER;CN="Madison Elyse Yoga & Adventure Retreats":MAILTO:me@madisonelyse.com
END:VEVENT
BEGIN:VEVENT
DTSTART;TZID=Europe/Madrid:20251111T183000
DTEND;TZID=Europe/Madrid:20251111T193000
DTSTAMP:20260425T215623
CREATED:20250918T130333Z
LAST-MODIFIED:20260402T165549Z
UID:10001183-1762885800-1762889400@madisonelyse.com
SUMMARY:Vinyasa Yoga @ Be Happy
DESCRIPTION:All of the classes with Madison Elyse revolve around anatomy\, mobility and safe movement. Whether you’re an expert or a novice\, you’ll find something to challenge and inspire you in every class. Think vinyasa\, meets hatha\, meets strength. \nPreregister by texting Madison at +34 605 98 00 84.
URL:https://madisonelyse.com/event/vinyasa-yoga-be-happy-5/2025-11-11/
LOCATION:Be Happy Yoga Studio\, Carrer de l'Ermità Torrandell\, Pollença\, Illes Balears\, 07460\, Spain
CATEGORIES:Yoga Classes
ORGANIZER;CN="Madison Elyse Yoga & Adventure Retreats":MAILTO:me@madisonelyse.com
END:VEVENT
BEGIN:VEVENT
DTSTART;TZID=Europe/Madrid:20251104T183000
DTEND;TZID=Europe/Madrid:20251104T193000
DTSTAMP:20260425T215623
CREATED:20250918T130333Z
LAST-MODIFIED:20260402T165549Z
UID:10001182-1762281000-1762284600@madisonelyse.com
SUMMARY:Vinyasa Yoga @ Be Happy
DESCRIPTION:All of the classes with Madison Elyse revolve around anatomy\, mobility and safe movement. Whether you’re an expert or a novice\, you’ll find something to challenge and inspire you in every class. Think vinyasa\, meets hatha\, meets strength. \nPreregister by texting Madison at +34 605 98 00 84.
URL:https://madisonelyse.com/event/vinyasa-yoga-be-happy-5/2025-11-04/
LOCATION:Be Happy Yoga Studio\, Carrer de l'Ermità Torrandell\, Pollença\, Illes Balears\, 07460\, Spain
CATEGORIES:Yoga Classes
ORGANIZER;CN="Madison Elyse Yoga & Adventure Retreats":MAILTO:me@madisonelyse.com
END:VEVENT
BEGIN:VEVENT
DTSTART;TZID=Europe/Madrid:20251102T093000
DTEND;TZID=Europe/Madrid:20251102T223000
DTSTAMP:20260425T215623
CREATED:20250918T130750Z
LAST-MODIFIED:20260201T143452Z
UID:10001196-1762075800-1762122600@madisonelyse.com
SUMMARY:Vinyasa Yoga @ Be Happy
DESCRIPTION:All of the classes with Madison Elyse revolve around anatomy\, mobility and safe movement. Whether you’re an expert or a novice\, you’ll find something to challenge and inspire you in every class. Think vinyasa\, meets hatha\, meets strength. \nPreregister by texting Madison at +34 605 98 00 84.
URL:https://madisonelyse.com/event/vinyasa-yoga-be-happy-7/2025-11-02/
LOCATION:Be Happy Yoga Studio\, Carrer de l'Ermità Torrandell\, Pollença\, Illes Balears\, 07460\, Spain
CATEGORIES:Yoga Classes
ORGANIZER;CN="Madison Elyse Yoga & Adventure Retreats":MAILTO:me@madisonelyse.com
END:VEVENT
BEGIN:VEVENT
DTSTART;TZID=Europe/Madrid:20251026T093000
DTEND;TZID=Europe/Madrid:20251026T223000
DTSTAMP:20260425T215623
CREATED:20250918T130750Z
LAST-MODIFIED:20260201T143452Z
UID:10001195-1761471000-1761517800@madisonelyse.com
SUMMARY:Vinyasa Yoga @ Be Happy
DESCRIPTION:All of the classes with Madison Elyse revolve around anatomy\, mobility and safe movement. Whether you’re an expert or a novice\, you’ll find something to challenge and inspire you in every class. Think vinyasa\, meets hatha\, meets strength. \nPreregister by texting Madison at +34 605 98 00 84.
URL:https://madisonelyse.com/event/vinyasa-yoga-be-happy-7/2025-10-26/
LOCATION:Be Happy Yoga Studio\, Carrer de l'Ermità Torrandell\, Pollença\, Illes Balears\, 07460\, Spain
CATEGORIES:Yoga Classes
ORGANIZER;CN="Madison Elyse Yoga & Adventure Retreats":MAILTO:me@madisonelyse.com
END:VEVENT
BEGIN:VEVENT
DTSTART;TZID=Europe/Madrid:20251019T093000
DTEND;TZID=Europe/Madrid:20251019T223000
DTSTAMP:20260425T215623
CREATED:20250918T130750Z
LAST-MODIFIED:20260201T143452Z
UID:10001194-1760866200-1760913000@madisonelyse.com
SUMMARY:Vinyasa Yoga @ Be Happy
DESCRIPTION:All of the classes with Madison Elyse revolve around anatomy\, mobility and safe movement. Whether you’re an expert or a novice\, you’ll find something to challenge and inspire you in every class. Think vinyasa\, meets hatha\, meets strength. \nPreregister by texting Madison at +34 605 98 00 84.
URL:https://madisonelyse.com/event/vinyasa-yoga-be-happy-7/2025-10-19/
LOCATION:Be Happy Yoga Studio\, Carrer de l'Ermità Torrandell\, Pollença\, Illes Balears\, 07460\, Spain
CATEGORIES:Yoga Classes
ORGANIZER;CN="Madison Elyse Yoga & Adventure Retreats":MAILTO:me@madisonelyse.com
END:VEVENT
BEGIN:VEVENT
DTSTART;TZID=Europe/Madrid:20251002T183000
DTEND;TZID=Europe/Madrid:20251002T193000
DTSTAMP:20260425T215623
CREATED:20250811T142941Z
LAST-MODIFIED:20260201T144013Z
UID:10001277-1759429800-1759433400@madisonelyse.com
SUMMARY:Vinyasa Yoga @ Be Happy
DESCRIPTION:All of the classes with Madison Elyse revolve around anatomy\, mobility and safe movement. Whether you’re an expert or a novice\, you’ll find something to challenge and inspire you in every class. Think vinyasa\, meets hatha\, meets strength. \nPreregister by texting Madison at +34 605 98 00 84.
URL:https://madisonelyse.com/event/vinyasa-yoga-be-happy-3/2025-10-02/
LOCATION:Be Happy Yoga Studio\, Carrer de l'Ermità Torrandell\, Pollença\, Illes Balears\, 07460\, Spain
CATEGORIES:Yoga Classes
ORGANIZER;CN="Madison Elyse Yoga & Adventure Retreats":MAILTO:me@madisonelyse.com
END:VEVENT
BEGIN:VEVENT
DTSTART;TZID=Europe/Madrid:20250928T093000
DTEND;TZID=Europe/Madrid:20250928T103000
DTSTAMP:20260425T215623
CREATED:20250811T143359Z
LAST-MODIFIED:20250918T131349Z
UID:10001222-1759051800-1759055400@madisonelyse.com
SUMMARY:Vinyasa Yoga @ Be Happy
DESCRIPTION:All of the classes with Madison Elyse revolve around anatomy\, mobility and safe movement. Whether you’re an expert or a novice\, you’ll find something to challenge and inspire you in every class. Think vinyasa\, meets hatha\, meets strength. \nPreregister by texting Madison at +34 605 98 00 84.
URL:https://madisonelyse.com/event/vinyasa-yoga-be-happy-4/2025-09-28/
LOCATION:Be Happy Yoga Studio\, Carrer de l'Ermità Torrandell\, Pollença\, Illes Balears\, 07460\, Spain
END:VEVENT
BEGIN:VEVENT
DTSTART;TZID=Europe/Madrid:20250925T183000
DTEND;TZID=Europe/Madrid:20250925T193000
DTSTAMP:20260425T215623
CREATED:20250811T142941Z
LAST-MODIFIED:20260201T144013Z
UID:10001070-1758825000-1758828600@madisonelyse.com
SUMMARY:Vinyasa Yoga @ Be Happy
DESCRIPTION:All of the classes with Madison Elyse revolve around anatomy\, mobility and safe movement. Whether you’re an expert or a novice\, you’ll find something to challenge and inspire you in every class. Think vinyasa\, meets hatha\, meets strength. \nPreregister by texting Madison at +34 605 98 00 84.
URL:https://madisonelyse.com/event/vinyasa-yoga-be-happy-3/2025-09-25/
LOCATION:Be Happy Yoga Studio\, Carrer de l'Ermità Torrandell\, Pollença\, Illes Balears\, 07460\, Spain
CATEGORIES:Yoga Classes
ORGANIZER;CN="Madison Elyse Yoga & Adventure Retreats":MAILTO:me@madisonelyse.com
END:VEVENT
BEGIN:VEVENT
DTSTART;TZID=Europe/Madrid:20250921T093000
DTEND;TZID=Europe/Madrid:20250921T103000
DTSTAMP:20260425T215623
CREATED:20250811T143359Z
LAST-MODIFIED:20250918T131349Z
UID:10001124-1758447000-1758450600@madisonelyse.com
SUMMARY:Vinyasa Yoga @ Be Happy
DESCRIPTION:All of the classes with Madison Elyse revolve around anatomy\, mobility and safe movement. Whether you’re an expert or a novice\, you’ll find something to challenge and inspire you in every class. Think vinyasa\, meets hatha\, meets strength. \nPreregister by texting Madison at +34 605 98 00 84.
URL:https://madisonelyse.com/event/vinyasa-yoga-be-happy-4/2025-09-21/
LOCATION:Be Happy Yoga Studio\, Carrer de l'Ermità Torrandell\, Pollença\, Illes Balears\, 07460\, Spain
END:VEVENT
BEGIN:VEVENT
DTSTART;TZID=Europe/Madrid:20250812T183000
DTEND;TZID=Europe/Madrid:20250812T193000
DTSTAMP:20260425T215623
CREATED:20250416T134614Z
LAST-MODIFIED:20260402T165607Z
UID:10000893-1755023400-1755027000@madisonelyse.com
SUMMARY:Vinyasa Yoga @ Be Happy
DESCRIPTION:All of the classes with Madison Elyse revolve around anatomy\, mobility and safe movement. Whether you’re an expert or a novice\, you’ll find something to challenge and inspire you in every class. Think vinyasa\, meets hatha\, meets strength. \nPreregister by texting Madison at +34 605 98 00 84\, or just show up to the studio.
URL:https://madisonelyse.com/event/vinyasa-yoga-be-happy-yoga-studio/2025-08-12/
LOCATION:Be Happy Yoga Studio\, Carrer de l'Ermità Torrandell\, Pollença\, Illes Balears\, 07460\, Spain
CATEGORIES:Yoga Classes
ORGANIZER;CN="Madison Elyse Yoga & Adventure Retreats":MAILTO:me@madisonelyse.com
END:VEVENT
BEGIN:VEVENT
DTSTART;TZID=Europe/Madrid:20250807T183000
DTEND;TZID=Europe/Madrid:20250807T193000
DTSTAMP:20260425T215623
CREATED:20250416T134614Z
LAST-MODIFIED:20260402T165607Z
UID:10000892-1754591400-1754595000@madisonelyse.com
SUMMARY:Vinyasa Yoga @ Be Happy
DESCRIPTION:All of the classes with Madison Elyse revolve around anatomy\, mobility and safe movement. Whether you’re an expert or a novice\, you’ll find something to challenge and inspire you in every class. Think vinyasa\, meets hatha\, meets strength. \nPreregister by texting Madison at +34 605 98 00 84\, or just show up to the studio.
URL:https://madisonelyse.com/event/vinyasa-yoga-be-happy-yoga-studio/2025-08-07/
LOCATION:Be Happy Yoga Studio\, Carrer de l'Ermità Torrandell\, Pollença\, Illes Balears\, 07460\, Spain
CATEGORIES:Yoga Classes
ORGANIZER;CN="Madison Elyse Yoga & Adventure Retreats":MAILTO:me@madisonelyse.com
END:VEVENT
BEGIN:VEVENT
DTSTART;TZID=Europe/Madrid:20250805T183000
DTEND;TZID=Europe/Madrid:20250805T193000
DTSTAMP:20260425T215623
CREATED:20250416T134614Z
LAST-MODIFIED:20260402T165607Z
UID:10000891-1754418600-1754422200@madisonelyse.com
SUMMARY:Vinyasa Yoga @ Be Happy
DESCRIPTION:All of the classes with Madison Elyse revolve around anatomy\, mobility and safe movement. Whether you’re an expert or a novice\, you’ll find something to challenge and inspire you in every class. Think vinyasa\, meets hatha\, meets strength. \nPreregister by texting Madison at +34 605 98 00 84\, or just show up to the studio.
URL:https://madisonelyse.com/event/vinyasa-yoga-be-happy-yoga-studio/2025-08-05/
LOCATION:Be Happy Yoga Studio\, Carrer de l'Ermità Torrandell\, Pollença\, Illes Balears\, 07460\, Spain
CATEGORIES:Yoga Classes
ORGANIZER;CN="Madison Elyse Yoga & Adventure Retreats":MAILTO:me@madisonelyse.com
END:VEVENT
BEGIN:VEVENT
DTSTART;TZID=Europe/Madrid:20250731T183000
DTEND;TZID=Europe/Madrid:20250731T193000
DTSTAMP:20260425T215623
CREATED:20250416T134614Z
LAST-MODIFIED:20260402T165607Z
UID:10000890-1753986600-1753990200@madisonelyse.com
SUMMARY:Vinyasa Yoga @ Be Happy
DESCRIPTION:All of the classes with Madison Elyse revolve around anatomy\, mobility and safe movement. Whether you’re an expert or a novice\, you’ll find something to challenge and inspire you in every class. Think vinyasa\, meets hatha\, meets strength. \nPreregister by texting Madison at +34 605 98 00 84\, or just show up to the studio.
URL:https://madisonelyse.com/event/vinyasa-yoga-be-happy-yoga-studio/2025-07-31/
LOCATION:Be Happy Yoga Studio\, Carrer de l'Ermità Torrandell\, Pollença\, Illes Balears\, 07460\, Spain
CATEGORIES:Yoga Classes
ORGANIZER;CN="Madison Elyse Yoga & Adventure Retreats":MAILTO:me@madisonelyse.com
END:VEVENT
BEGIN:VEVENT
DTSTART;TZID=Europe/Madrid:20250729T183000
DTEND;TZID=Europe/Madrid:20250729T193000
DTSTAMP:20260425T215623
CREATED:20250416T134614Z
LAST-MODIFIED:20260402T165607Z
UID:10000889-1753813800-1753817400@madisonelyse.com
SUMMARY:Vinyasa Yoga @ Be Happy
DESCRIPTION:All of the classes with Madison Elyse revolve around anatomy\, mobility and safe movement. Whether you’re an expert or a novice\, you’ll find something to challenge and inspire you in every class. Think vinyasa\, meets hatha\, meets strength. \nPreregister by texting Madison at +34 605 98 00 84\, or just show up to the studio.
URL:https://madisonelyse.com/event/vinyasa-yoga-be-happy-yoga-studio/2025-07-29/
LOCATION:Be Happy Yoga Studio\, Carrer de l'Ermità Torrandell\, Pollença\, Illes Balears\, 07460\, Spain
CATEGORIES:Yoga Classes
ORGANIZER;CN="Madison Elyse Yoga & Adventure Retreats":MAILTO:me@madisonelyse.com
END:VEVENT
BEGIN:VEVENT
DTSTART;TZID=Europe/Madrid:20250724T183000
DTEND;TZID=Europe/Madrid:20250724T193000
DTSTAMP:20260425T215623
CREATED:20250416T134614Z
LAST-MODIFIED:20260402T165607Z
UID:10000888-1753381800-1753385400@madisonelyse.com
SUMMARY:Vinyasa Yoga @ Be Happy
DESCRIPTION:All of the classes with Madison Elyse revolve around anatomy\, mobility and safe movement. Whether you’re an expert or a novice\, you’ll find something to challenge and inspire you in every class. Think vinyasa\, meets hatha\, meets strength. \nPreregister by texting Madison at +34 605 98 00 84\, or just show up to the studio.
URL:https://madisonelyse.com/event/vinyasa-yoga-be-happy-yoga-studio/2025-07-24/
LOCATION:Be Happy Yoga Studio\, Carrer de l'Ermità Torrandell\, Pollença\, Illes Balears\, 07460\, Spain
CATEGORIES:Yoga Classes
ORGANIZER;CN="Madison Elyse Yoga & Adventure Retreats":MAILTO:me@madisonelyse.com
END:VEVENT
BEGIN:VEVENT
DTSTART;TZID=Europe/Madrid:20250722T183000
DTEND;TZID=Europe/Madrid:20250722T193000
DTSTAMP:20260425T215623
CREATED:20250416T134614Z
LAST-MODIFIED:20260402T165607Z
UID:10000887-1753209000-1753212600@madisonelyse.com
SUMMARY:Vinyasa Yoga @ Be Happy
DESCRIPTION:All of the classes with Madison Elyse revolve around anatomy\, mobility and safe movement. Whether you’re an expert or a novice\, you’ll find something to challenge and inspire you in every class. Think vinyasa\, meets hatha\, meets strength. \nPreregister by texting Madison at +34 605 98 00 84\, or just show up to the studio.
URL:https://madisonelyse.com/event/vinyasa-yoga-be-happy-yoga-studio/2025-07-22/
LOCATION:Be Happy Yoga Studio\, Carrer de l'Ermità Torrandell\, Pollença\, Illes Balears\, 07460\, Spain
CATEGORIES:Yoga Classes
ORGANIZER;CN="Madison Elyse Yoga & Adventure Retreats":MAILTO:me@madisonelyse.com
END:VEVENT
BEGIN:VEVENT
DTSTART;TZID=Europe/Madrid:20250719T093000
DTEND;TZID=Europe/Madrid:20250719T103000
DTSTAMP:20260425T215623
CREATED:20250502T085311Z
LAST-MODIFIED:20260201T143938Z
UID:10000606-1752917400-1752921000@madisonelyse.com
SUMMARY:Vinyasa Yoga @ Be Happy
DESCRIPTION:All of the classes with Madison Elyse revolve around anatomy\, mobility and safe movement. Whether you’re an expert or a novice\, you’ll find something to challenge and inspire you in every class. Think vinyasa\, meets hatha\, meets strength. \nPreregister by texting Madison at +34 605 98 00 84\, or just show up to the studio.
URL:https://madisonelyse.com/event/vinyasa-yoga-be-happy/2025-07-19/
LOCATION:Be Happy Yoga Studio\, Carrer de l'Ermità Torrandell\, Pollença\, Illes Balears\, 07460\, Spain
END:VEVENT
BEGIN:VEVENT
DTSTART;TZID=Europe/Madrid:20250717T183000
DTEND;TZID=Europe/Madrid:20250717T193000
DTSTAMP:20260425T215623
CREATED:20250416T134614Z
LAST-MODIFIED:20260402T165607Z
UID:10000886-1752777000-1752780600@madisonelyse.com
SUMMARY:Vinyasa Yoga @ Be Happy
DESCRIPTION:All of the classes with Madison Elyse revolve around anatomy\, mobility and safe movement. Whether you’re an expert or a novice\, you’ll find something to challenge and inspire you in every class. Think vinyasa\, meets hatha\, meets strength. \nPreregister by texting Madison at +34 605 98 00 84\, or just show up to the studio.
URL:https://madisonelyse.com/event/vinyasa-yoga-be-happy-yoga-studio/2025-07-17/
LOCATION:Be Happy Yoga Studio\, Carrer de l'Ermità Torrandell\, Pollença\, Illes Balears\, 07460\, Spain
CATEGORIES:Yoga Classes
ORGANIZER;CN="Madison Elyse Yoga & Adventure Retreats":MAILTO:me@madisonelyse.com
END:VEVENT
BEGIN:VEVENT
DTSTART;TZID=Europe/Madrid:20250715T183000
DTEND;TZID=Europe/Madrid:20250715T193000
DTSTAMP:20260425T215623
CREATED:20250416T134614Z
LAST-MODIFIED:20260402T165607Z
UID:10000885-1752604200-1752607800@madisonelyse.com
SUMMARY:Vinyasa Yoga @ Be Happy
DESCRIPTION:All of the classes with Madison Elyse revolve around anatomy\, mobility and safe movement. Whether you’re an expert or a novice\, you’ll find something to challenge and inspire you in every class. Think vinyasa\, meets hatha\, meets strength. \nPreregister by texting Madison at +34 605 98 00 84\, or just show up to the studio.
URL:https://madisonelyse.com/event/vinyasa-yoga-be-happy-yoga-studio/2025-07-15/
LOCATION:Be Happy Yoga Studio\, Carrer de l'Ermità Torrandell\, Pollença\, Illes Balears\, 07460\, Spain
CATEGORIES:Yoga Classes
ORGANIZER;CN="Madison Elyse Yoga & Adventure Retreats":MAILTO:me@madisonelyse.com
END:VEVENT
BEGIN:VEVENT
DTSTART;TZID=Europe/Madrid:20250712T093000
DTEND;TZID=Europe/Madrid:20250712T103000
DTSTAMP:20260425T215623
CREATED:20250502T085311Z
LAST-MODIFIED:20260201T143938Z
UID:10000605-1752312600-1752316200@madisonelyse.com
SUMMARY:Vinyasa Yoga @ Be Happy
DESCRIPTION:All of the classes with Madison Elyse revolve around anatomy\, mobility and safe movement. Whether you’re an expert or a novice\, you’ll find something to challenge and inspire you in every class. Think vinyasa\, meets hatha\, meets strength. \nPreregister by texting Madison at +34 605 98 00 84\, or just show up to the studio.
URL:https://madisonelyse.com/event/vinyasa-yoga-be-happy/2025-07-12/
LOCATION:Be Happy Yoga Studio\, Carrer de l'Ermità Torrandell\, Pollença\, Illes Balears\, 07460\, Spain
END:VEVENT
BEGIN:VEVENT
DTSTART;TZID=Europe/Madrid:20250710T183000
DTEND;TZID=Europe/Madrid:20250710T193000
DTSTAMP:20260425T215623
CREATED:20250416T134614Z
LAST-MODIFIED:20260402T165607Z
UID:10000884-1752172200-1752175800@madisonelyse.com
SUMMARY:Vinyasa Yoga @ Be Happy
DESCRIPTION:All of the classes with Madison Elyse revolve around anatomy\, mobility and safe movement. Whether you’re an expert or a novice\, you’ll find something to challenge and inspire you in every class. Think vinyasa\, meets hatha\, meets strength. \nPreregister by texting Madison at +34 605 98 00 84\, or just show up to the studio.
URL:https://madisonelyse.com/event/vinyasa-yoga-be-happy-yoga-studio/2025-07-10/
LOCATION:Be Happy Yoga Studio\, Carrer de l'Ermità Torrandell\, Pollença\, Illes Balears\, 07460\, Spain
CATEGORIES:Yoga Classes
ORGANIZER;CN="Madison Elyse Yoga & Adventure Retreats":MAILTO:me@madisonelyse.com
END:VEVENT
BEGIN:VEVENT
DTSTART;TZID=Europe/Madrid:20250708T183000
DTEND;TZID=Europe/Madrid:20250708T193000
DTSTAMP:20260425T215623
CREATED:20250416T134614Z
LAST-MODIFIED:20260402T165607Z
UID:10000883-1751999400-1752003000@madisonelyse.com
SUMMARY:Vinyasa Yoga @ Be Happy
DESCRIPTION:All of the classes with Madison Elyse revolve around anatomy\, mobility and safe movement. Whether you’re an expert or a novice\, you’ll find something to challenge and inspire you in every class. Think vinyasa\, meets hatha\, meets strength. \nPreregister by texting Madison at +34 605 98 00 84\, or just show up to the studio.
URL:https://madisonelyse.com/event/vinyasa-yoga-be-happy-yoga-studio/2025-07-08/
LOCATION:Be Happy Yoga Studio\, Carrer de l'Ermità Torrandell\, Pollença\, Illes Balears\, 07460\, Spain
CATEGORIES:Yoga Classes
ORGANIZER;CN="Madison Elyse Yoga & Adventure Retreats":MAILTO:me@madisonelyse.com
END:VEVENT
END:VCALENDAR