BEGIN:VCALENDAR
VERSION:2.0
PRODID:-//Madison Elyse - ECPv6.15.20//NONSGML v1.0//EN
CALSCALE:GREGORIAN
METHOD:PUBLISH
X-ORIGINAL-URL:https://madisonelyse.com
X-WR-CALDESC:Events for Madison Elyse
REFRESH-INTERVAL;VALUE=DURATION:PT1H
X-Robots-Tag:noindex
X-PUBLISHED-TTL:PT1H
BEGIN:VTIMEZONE
TZID:Europe/Madrid
BEGIN:DAYLIGHT
TZOFFSETFROM:+0100
TZOFFSETTO:+0200
TZNAME:CEST
DTSTART:20240331T010000
END:DAYLIGHT
BEGIN:STANDARD
TZOFFSETFROM:+0200
TZOFFSETTO:+0100
TZNAME:CET
DTSTART:20241027T010000
END:STANDARD
BEGIN:DAYLIGHT
TZOFFSETFROM:+0100
TZOFFSETTO:+0200
TZNAME:CEST
DTSTART:20250330T010000
END:DAYLIGHT
BEGIN:STANDARD
TZOFFSETFROM:+0200
TZOFFSETTO:+0100
TZNAME:CET
DTSTART:20251026T010000
END:STANDARD
BEGIN:DAYLIGHT
TZOFFSETFROM:+0100
TZOFFSETTO:+0200
TZNAME:CEST
DTSTART:20260329T010000
END:DAYLIGHT
BEGIN:STANDARD
TZOFFSETFROM:+0200
TZOFFSETTO:+0100
TZNAME:CET
DTSTART:20261025T010000
END:STANDARD
END:VTIMEZONE
BEGIN:VEVENT
DTSTART;TZID=Europe/Madrid:20250812T090000
DTEND;TZID=Europe/Madrid:20250812T100000
DTSTAMP:20260425T231954
CREATED:20250416T144906Z
LAST-MODIFIED:20250721T122659Z
UID:10001013-1754989200-1754992800@madisonelyse.com
SUMMARY:Hatha Yoga @ Inspira
DESCRIPTION:Join us for some poolside hatha yoga at Inspira with Madison Elyse. All classes revolve around anatomy\, mobility and safe movement. Please bring a mat! \nTo preregister\, Whatsapp Madison at +34 605 98 00 84 or simply show up for class.
URL:https://madisonelyse.com/event/hatha-yoga-inspira-2/2025-08-12/
LOCATION:Comunidad Inspira\, Carrer del Fuster\, 49\, Pollensa\, Illes Balears\, 07460\, Spain
CATEGORIES:Yoga Classes
ORGANIZER;CN="Madison Elyse Yoga & Adventure Retreats":MAILTO:me@madisonelyse.com
END:VEVENT
BEGIN:VEVENT
DTSTART;TZID=Europe/Madrid:20250805T090000
DTEND;TZID=Europe/Madrid:20250805T100000
DTSTAMP:20260425T231954
CREATED:20250416T144906Z
LAST-MODIFIED:20250721T122659Z
UID:10001012-1754384400-1754388000@madisonelyse.com
SUMMARY:Hatha Yoga @ Inspira
DESCRIPTION:Join us for some poolside hatha yoga at Inspira with Madison Elyse. All classes revolve around anatomy\, mobility and safe movement. Please bring a mat! \nTo preregister\, Whatsapp Madison at +34 605 98 00 84 or simply show up for class.
URL:https://madisonelyse.com/event/hatha-yoga-inspira-2/2025-08-05/
LOCATION:Comunidad Inspira\, Carrer del Fuster\, 49\, Pollensa\, Illes Balears\, 07460\, Spain
CATEGORIES:Yoga Classes
ORGANIZER;CN="Madison Elyse Yoga & Adventure Retreats":MAILTO:me@madisonelyse.com
END:VEVENT
BEGIN:VEVENT
DTSTART;TZID=Europe/Madrid:20250729T090000
DTEND;TZID=Europe/Madrid:20250729T100000
DTSTAMP:20260425T231954
CREATED:20250416T144906Z
LAST-MODIFIED:20250721T122659Z
UID:10001011-1753779600-1753783200@madisonelyse.com
SUMMARY:Hatha Yoga @ Inspira
DESCRIPTION:Join us for some poolside hatha yoga at Inspira with Madison Elyse. All classes revolve around anatomy\, mobility and safe movement. Please bring a mat! \nTo preregister\, Whatsapp Madison at +34 605 98 00 84 or simply show up for class.
URL:https://madisonelyse.com/event/hatha-yoga-inspira-2/2025-07-29/
LOCATION:Comunidad Inspira\, Carrer del Fuster\, 49\, Pollensa\, Illes Balears\, 07460\, Spain
CATEGORIES:Yoga Classes
ORGANIZER;CN="Madison Elyse Yoga & Adventure Retreats":MAILTO:me@madisonelyse.com
END:VEVENT
BEGIN:VEVENT
DTSTART;TZID=Europe/Madrid:20250722T090000
DTEND;TZID=Europe/Madrid:20250722T100000
DTSTAMP:20260425T231954
CREATED:20250416T144906Z
LAST-MODIFIED:20250721T122659Z
UID:10001010-1753174800-1753178400@madisonelyse.com
SUMMARY:Hatha Yoga @ Inspira
DESCRIPTION:Join us for some poolside hatha yoga at Inspira with Madison Elyse. All classes revolve around anatomy\, mobility and safe movement. Please bring a mat! \nTo preregister\, Whatsapp Madison at +34 605 98 00 84 or simply show up for class.
URL:https://madisonelyse.com/event/hatha-yoga-inspira-2/2025-07-22/
LOCATION:Comunidad Inspira\, Carrer del Fuster\, 49\, Pollensa\, Illes Balears\, 07460\, Spain
CATEGORIES:Yoga Classes
ORGANIZER;CN="Madison Elyse Yoga & Adventure Retreats":MAILTO:me@madisonelyse.com
END:VEVENT
BEGIN:VEVENT
DTSTART;TZID=Europe/Madrid:20250715T090000
DTEND;TZID=Europe/Madrid:20250715T100000
DTSTAMP:20260425T231954
CREATED:20250416T144906Z
LAST-MODIFIED:20250721T122659Z
UID:10001009-1752570000-1752573600@madisonelyse.com
SUMMARY:Hatha Yoga @ Inspira
DESCRIPTION:Join us for some poolside hatha yoga at Inspira with Madison Elyse. All classes revolve around anatomy\, mobility and safe movement. Please bring a mat! \nTo preregister\, Whatsapp Madison at +34 605 98 00 84 or simply show up for class.
URL:https://madisonelyse.com/event/hatha-yoga-inspira-2/2025-07-15/
LOCATION:Comunidad Inspira\, Carrer del Fuster\, 49\, Pollensa\, Illes Balears\, 07460\, Spain
CATEGORIES:Yoga Classes
ORGANIZER;CN="Madison Elyse Yoga & Adventure Retreats":MAILTO:me@madisonelyse.com
END:VEVENT
BEGIN:VEVENT
DTSTART;TZID=Europe/Madrid:20250708T090000
DTEND;TZID=Europe/Madrid:20250708T100000
DTSTAMP:20260425T231954
CREATED:20250416T144906Z
LAST-MODIFIED:20250721T122659Z
UID:10001008-1751965200-1751968800@madisonelyse.com
SUMMARY:Hatha Yoga @ Inspira
DESCRIPTION:Join us for some poolside hatha yoga at Inspira with Madison Elyse. All classes revolve around anatomy\, mobility and safe movement. Please bring a mat! \nTo preregister\, Whatsapp Madison at +34 605 98 00 84 or simply show up for class.
URL:https://madisonelyse.com/event/hatha-yoga-inspira-2/2025-07-08/
LOCATION:Comunidad Inspira\, Carrer del Fuster\, 49\, Pollensa\, Illes Balears\, 07460\, Spain
CATEGORIES:Yoga Classes
ORGANIZER;CN="Madison Elyse Yoga & Adventure Retreats":MAILTO:me@madisonelyse.com
END:VEVENT
BEGIN:VEVENT
DTSTART;TZID=Europe/Madrid:20250701T090000
DTEND;TZID=Europe/Madrid:20250701T100000
DTSTAMP:20260425T231954
CREATED:20250416T144906Z
LAST-MODIFIED:20250721T122659Z
UID:10001007-1751360400-1751364000@madisonelyse.com
SUMMARY:Hatha Yoga @ Inspira
DESCRIPTION:Join us for some poolside hatha yoga at Inspira with Madison Elyse. All classes revolve around anatomy\, mobility and safe movement. Please bring a mat! \nTo preregister\, Whatsapp Madison at +34 605 98 00 84 or simply show up for class.
URL:https://madisonelyse.com/event/hatha-yoga-inspira-2/2025-07-01/
LOCATION:Comunidad Inspira\, Carrer del Fuster\, 49\, Pollensa\, Illes Balears\, 07460\, Spain
CATEGORIES:Yoga Classes
ORGANIZER;CN="Madison Elyse Yoga & Adventure Retreats":MAILTO:me@madisonelyse.com
END:VEVENT
BEGIN:VEVENT
DTSTART;TZID=Europe/Madrid:20250624T090000
DTEND;TZID=Europe/Madrid:20250624T100000
DTSTAMP:20260425T231954
CREATED:20250416T144906Z
LAST-MODIFIED:20250721T122659Z
UID:10001006-1750755600-1750759200@madisonelyse.com
SUMMARY:Hatha Yoga @ Inspira
DESCRIPTION:Join us for some poolside hatha yoga at Inspira with Madison Elyse. All classes revolve around anatomy\, mobility and safe movement. Please bring a mat! \nTo preregister\, Whatsapp Madison at +34 605 98 00 84 or simply show up for class.
URL:https://madisonelyse.com/event/hatha-yoga-inspira-2/2025-06-24/
LOCATION:Comunidad Inspira\, Carrer del Fuster\, 49\, Pollensa\, Illes Balears\, 07460\, Spain
CATEGORIES:Yoga Classes
ORGANIZER;CN="Madison Elyse Yoga & Adventure Retreats":MAILTO:me@madisonelyse.com
END:VEVENT
BEGIN:VEVENT
DTSTART;TZID=Europe/Madrid:20250617T090000
DTEND;TZID=Europe/Madrid:20250617T100000
DTSTAMP:20260425T231954
CREATED:20250416T144906Z
LAST-MODIFIED:20250721T122659Z
UID:10001005-1750150800-1750154400@madisonelyse.com
SUMMARY:Hatha Yoga @ Inspira
DESCRIPTION:Join us for some poolside hatha yoga at Inspira with Madison Elyse. All classes revolve around anatomy\, mobility and safe movement. Please bring a mat! \nTo preregister\, Whatsapp Madison at +34 605 98 00 84 or simply show up for class.
URL:https://madisonelyse.com/event/hatha-yoga-inspira-2/2025-06-17/
LOCATION:Comunidad Inspira\, Carrer del Fuster\, 49\, Pollensa\, Illes Balears\, 07460\, Spain
CATEGORIES:Yoga Classes
ORGANIZER;CN="Madison Elyse Yoga & Adventure Retreats":MAILTO:me@madisonelyse.com
END:VEVENT
BEGIN:VEVENT
DTSTART;TZID=Europe/Madrid:20250610T090000
DTEND;TZID=Europe/Madrid:20250610T100000
DTSTAMP:20260425T231954
CREATED:20250416T144906Z
LAST-MODIFIED:20250721T122659Z
UID:10001004-1749546000-1749549600@madisonelyse.com
SUMMARY:Hatha Yoga @ Inspira
DESCRIPTION:Join us for some poolside hatha yoga at Inspira with Madison Elyse. All classes revolve around anatomy\, mobility and safe movement. Please bring a mat! \nTo preregister\, Whatsapp Madison at +34 605 98 00 84 or simply show up for class.
URL:https://madisonelyse.com/event/hatha-yoga-inspira-2/2025-06-10/
LOCATION:Comunidad Inspira\, Carrer del Fuster\, 49\, Pollensa\, Illes Balears\, 07460\, Spain
CATEGORIES:Yoga Classes
ORGANIZER;CN="Madison Elyse Yoga & Adventure Retreats":MAILTO:me@madisonelyse.com
END:VEVENT
BEGIN:VEVENT
DTSTART;TZID=Europe/Madrid:20250603T090000
DTEND;TZID=Europe/Madrid:20250603T100000
DTSTAMP:20260425T231954
CREATED:20250416T144906Z
LAST-MODIFIED:20250721T122659Z
UID:10001003-1748941200-1748944800@madisonelyse.com
SUMMARY:Hatha Yoga @ Inspira
DESCRIPTION:Join us for some poolside hatha yoga at Inspira with Madison Elyse. All classes revolve around anatomy\, mobility and safe movement. Please bring a mat! \nTo preregister\, Whatsapp Madison at +34 605 98 00 84 or simply show up for class.
URL:https://madisonelyse.com/event/hatha-yoga-inspira-2/2025-06-03/
LOCATION:Comunidad Inspira\, Carrer del Fuster\, 49\, Pollensa\, Illes Balears\, 07460\, Spain
CATEGORIES:Yoga Classes
ORGANIZER;CN="Madison Elyse Yoga & Adventure Retreats":MAILTO:me@madisonelyse.com
END:VEVENT
BEGIN:VEVENT
DTSTART;TZID=Europe/Madrid:20250527T090000
DTEND;TZID=Europe/Madrid:20250527T100000
DTSTAMP:20260425T231954
CREATED:20250416T144906Z
LAST-MODIFIED:20250721T122659Z
UID:10001002-1748336400-1748340000@madisonelyse.com
SUMMARY:Hatha Yoga @ Inspira
DESCRIPTION:Join us for some poolside hatha yoga at Inspira with Madison Elyse. All classes revolve around anatomy\, mobility and safe movement. Please bring a mat! \nTo preregister\, Whatsapp Madison at +34 605 98 00 84 or simply show up for class.
URL:https://madisonelyse.com/event/hatha-yoga-inspira-2/2025-05-27/
LOCATION:Comunidad Inspira\, Carrer del Fuster\, 49\, Pollensa\, Illes Balears\, 07460\, Spain
CATEGORIES:Yoga Classes
ORGANIZER;CN="Madison Elyse Yoga & Adventure Retreats":MAILTO:me@madisonelyse.com
END:VEVENT
BEGIN:VEVENT
DTSTART;TZID=Europe/Madrid:20250520T090000
DTEND;TZID=Europe/Madrid:20250520T100000
DTSTAMP:20260425T231954
CREATED:20250416T144906Z
LAST-MODIFIED:20250721T122659Z
UID:10001001-1747731600-1747735200@madisonelyse.com
SUMMARY:Hatha Yoga @ Inspira
DESCRIPTION:Join us for some poolside hatha yoga at Inspira with Madison Elyse. All classes revolve around anatomy\, mobility and safe movement. Please bring a mat! \nTo preregister\, Whatsapp Madison at +34 605 98 00 84 or simply show up for class.
URL:https://madisonelyse.com/event/hatha-yoga-inspira-2/2025-05-20/
LOCATION:Comunidad Inspira\, Carrer del Fuster\, 49\, Pollensa\, Illes Balears\, 07460\, Spain
CATEGORIES:Yoga Classes
ORGANIZER;CN="Madison Elyse Yoga & Adventure Retreats":MAILTO:me@madisonelyse.com
END:VEVENT
BEGIN:VEVENT
DTSTART;TZID=Europe/Madrid:20250513T090000
DTEND;TZID=Europe/Madrid:20250513T100000
DTSTAMP:20260425T231954
CREATED:20250416T144906Z
LAST-MODIFIED:20250721T122659Z
UID:10001000-1747126800-1747130400@madisonelyse.com
SUMMARY:Hatha Yoga @ Inspira
DESCRIPTION:Join us for some poolside hatha yoga at Inspira with Madison Elyse. All classes revolve around anatomy\, mobility and safe movement. Please bring a mat! \nTo preregister\, Whatsapp Madison at +34 605 98 00 84 or simply show up for class.
URL:https://madisonelyse.com/event/hatha-yoga-inspira-2/2025-05-13/
LOCATION:Comunidad Inspira\, Carrer del Fuster\, 49\, Pollensa\, Illes Balears\, 07460\, Spain
CATEGORIES:Yoga Classes
ORGANIZER;CN="Madison Elyse Yoga & Adventure Retreats":MAILTO:me@madisonelyse.com
END:VEVENT
BEGIN:VEVENT
DTSTART;TZID=Europe/Madrid:20250506T090000
DTEND;TZID=Europe/Madrid:20250506T100000
DTSTAMP:20260425T231954
CREATED:20250416T144906Z
LAST-MODIFIED:20250721T122659Z
UID:10000999-1746522000-1746525600@madisonelyse.com
SUMMARY:Hatha Yoga @ Inspira
DESCRIPTION:Join us for some poolside hatha yoga at Inspira with Madison Elyse. All classes revolve around anatomy\, mobility and safe movement. Please bring a mat! \nTo preregister\, Whatsapp Madison at +34 605 98 00 84 or simply show up for class.
URL:https://madisonelyse.com/event/hatha-yoga-inspira-2/2025-05-06/
LOCATION:Comunidad Inspira\, Carrer del Fuster\, 49\, Pollensa\, Illes Balears\, 07460\, Spain
CATEGORIES:Yoga Classes
ORGANIZER;CN="Madison Elyse Yoga & Adventure Retreats":MAILTO:me@madisonelyse.com
END:VEVENT
BEGIN:VEVENT
DTSTART;TZID=Europe/Madrid:20250429T091500
DTEND;TZID=Europe/Madrid:20250429T101500
DTSTAMP:20260425T231954
CREATED:20250416T142715Z
LAST-MODIFIED:20250416T145647Z
UID:10000142-1745918100-1745921700@madisonelyse.com
SUMMARY:Hatha Yoga @ Inspira
DESCRIPTION:Join us for some poolside hatha yoga with Madison Elyse. All classes revolve around anatomy\, mobility and safe movement. Please bring a mat! \nTo preregister\, Whatsapp Madison at +34 605 98 00 84 or simply show up for class.
URL:https://madisonelyse.com/event/hatha-yoga-inspira/2025-04-29/
LOCATION:Comunidad Inspira\, Carrer del Fuster\, 49\, Pollensa\, Illes Balears\, 07460\, Spain
CATEGORIES:Yoga Classes
ORGANIZER;CN="Madison Elyse Yoga & Adventure Retreats":MAILTO:me@madisonelyse.com
END:VEVENT
BEGIN:VEVENT
DTSTART;TZID=Europe/Madrid:20250422T091500
DTEND;TZID=Europe/Madrid:20250422T101500
DTSTAMP:20260425T231954
CREATED:20250416T142715Z
LAST-MODIFIED:20250416T145647Z
UID:10000141-1745313300-1745316900@madisonelyse.com
SUMMARY:Hatha Yoga @ Inspira
DESCRIPTION:Join us for some poolside hatha yoga with Madison Elyse. All classes revolve around anatomy\, mobility and safe movement. Please bring a mat! \nTo preregister\, Whatsapp Madison at +34 605 98 00 84 or simply show up for class.
URL:https://madisonelyse.com/event/hatha-yoga-inspira/2025-04-22/
LOCATION:Comunidad Inspira\, Carrer del Fuster\, 49\, Pollensa\, Illes Balears\, 07460\, Spain
CATEGORIES:Yoga Classes
ORGANIZER;CN="Madison Elyse Yoga & Adventure Retreats":MAILTO:me@madisonelyse.com
END:VEVENT
END:VCALENDAR